BEGIN:VCALENDAR
VERSION:2.0
PRODID:-//Callonwood - ECPv6.15.20//NONSGML v1.0//EN
CALSCALE:GREGORIAN
METHOD:PUBLISH
X-ORIGINAL-URL:https://www.callonwood.com
X-WR-CALDESC:Events for Callonwood
REFRESH-INTERVAL;VALUE=DURATION:PT1H
X-Robots-Tag:noindex
X-PUBLISHED-TTL:PT1H
BEGIN:VTIMEZONE
TZID:America/New_York
BEGIN:DAYLIGHT
TZOFFSETFROM:-0500
TZOFFSETTO:-0400
TZNAME:EDT
DTSTART:20240310T070000
END:DAYLIGHT
BEGIN:STANDARD
TZOFFSETFROM:-0400
TZOFFSETTO:-0500
TZNAME:EST
DTSTART:20241103T060000
END:STANDARD
BEGIN:DAYLIGHT
TZOFFSETFROM:-0500
TZOFFSETTO:-0400
TZNAME:EDT
DTSTART:20250309T070000
END:DAYLIGHT
BEGIN:STANDARD
TZOFFSETFROM:-0400
TZOFFSETTO:-0500
TZNAME:EST
DTSTART:20251102T060000
END:STANDARD
BEGIN:DAYLIGHT
TZOFFSETFROM:-0500
TZOFFSETTO:-0400
TZNAME:EDT
DTSTART:20260308T070000
END:DAYLIGHT
BEGIN:STANDARD
TZOFFSETFROM:-0400
TZOFFSETTO:-0500
TZNAME:EST
DTSTART:20261101T060000
END:STANDARD
END:VTIMEZONE
BEGIN:VEVENT
DTSTART;TZID=America/New_York:20251110T190000
DTEND;TZID=America/New_York:20251110T200000
DTSTAMP:20260419T082441
CREATED:20250909T214956Z
LAST-MODIFIED:20250909T215014Z
UID:1324-1762801200-1762804800@www.callonwood.com
SUMMARY:Callonwood Book Club Meeting
DESCRIPTION:Please visit our FAQ page and refer to the question in the first section about the Book Club to see the dates\, times\, and selected books for each meeting. Contact information for joining is also posted there.
URL:https://www.callonwood.com/event/callonwood-book-club-meeting-10/
LOCATION:Callonwood Clubhouse
CATEGORIES:Callonwood Events
ATTACH;FMTTYPE=image/png:https://www.callonwood.com/wp-content/uploads/Book-Club-e1665602479235.png
END:VEVENT
BEGIN:VEVENT
DTSTART;TZID=America/New_York:20251114T190000
DTEND;TZID=America/New_York:20251114T213000
DTSTAMP:20260419T082441
CREATED:20250823T200324Z
LAST-MODIFIED:20250823T200324Z
UID:1303-1763146800-1763155800@www.callonwood.com
SUMMARY:Fire Pit Friday - November 14\, 2025
DESCRIPTION:Callonwood Fire Pit Friday –  November 14\, 2025\nAt the Callonwood Park (1801 Hammond Drive)\n7:00pm \nFire Pits & S’mores Provided!\nBYOB and Chairs
URL:https://www.callonwood.com/event/fire-pit-friday-nov-14-2025/
LOCATION:Callonwood Park
CATEGORIES:Callonwood Events
ATTACH;FMTTYPE=image/jpeg:https://www.callonwood.com/wp-content/uploads/Fire-Pit-Friday-nov2025.jpg
END:VEVENT
BEGIN:VEVENT
DTSTART;TZID=America/New_York:20251120T190000
DTEND;TZID=America/New_York:20251120T203000
DTSTAMP:20260419T082441
CREATED:20250204T172625Z
LAST-MODIFIED:20250204T172625Z
UID:1167-1763665200-1763670600@www.callonwood.com
SUMMARY:HOA Open Board Meeting - November 20\, 2025
DESCRIPTION:HOA OPEN BOARD (ANNUAL) MEETING NOTICE \nThere will be an open board meeting Thursday\, November 20\, 2025 to begin at 7pm. \nThis will be held at the Callonwood Clubhouse\, located at 1001 Sarandon Drive in Stallings\, NC 28104. \nLooking forward to seeing everyone at the meeting!! \nSincerely\,\nCallonwood Board of Directors
URL:https://www.callonwood.com/event/hoa-open-board-meeting-november-20-2025/
LOCATION:Callonwood Clubhouse
CATEGORIES:Board Meetings,Callonwood Events
ATTACH;FMTTYPE=image/jpeg:https://www.callonwood.com/wp-content/uploads/2022/07/meeting.jpg
END:VEVENT
END:VCALENDAR