BEGIN:VCALENDAR
VERSION:2.0
PRODID:-//Callonwood - ECPv6.15.20//NONSGML v1.0//EN
CALSCALE:GREGORIAN
METHOD:PUBLISH
X-ORIGINAL-URL:https://www.callonwood.com
X-WR-CALDESC:Events for Callonwood
REFRESH-INTERVAL;VALUE=DURATION:PT1H
X-Robots-Tag:noindex
X-PUBLISHED-TTL:PT1H
BEGIN:VTIMEZONE
TZID:America/New_York
BEGIN:DAYLIGHT
TZOFFSETFROM:-0500
TZOFFSETTO:-0400
TZNAME:EDT
DTSTART:20240310T070000
END:DAYLIGHT
BEGIN:STANDARD
TZOFFSETFROM:-0400
TZOFFSETTO:-0500
TZNAME:EST
DTSTART:20241103T060000
END:STANDARD
BEGIN:DAYLIGHT
TZOFFSETFROM:-0500
TZOFFSETTO:-0400
TZNAME:EDT
DTSTART:20250309T070000
END:DAYLIGHT
BEGIN:STANDARD
TZOFFSETFROM:-0400
TZOFFSETTO:-0500
TZNAME:EST
DTSTART:20251102T060000
END:STANDARD
BEGIN:DAYLIGHT
TZOFFSETFROM:-0500
TZOFFSETTO:-0400
TZNAME:EDT
DTSTART:20260308T070000
END:DAYLIGHT
BEGIN:STANDARD
TZOFFSETFROM:-0400
TZOFFSETTO:-0500
TZNAME:EST
DTSTART:20261101T060000
END:STANDARD
END:VTIMEZONE
BEGIN:VEVENT
DTSTART;TZID=America/New_York:20251013T190000
DTEND;TZID=America/New_York:20251013T200000
DTSTAMP:20260419T094737
CREATED:20250909T214802Z
LAST-MODIFIED:20250909T214823Z
UID:1322-1760382000-1760385600@www.callonwood.com
SUMMARY:Callonwood Book Club Meeting
DESCRIPTION:Please visit our FAQ page and refer to the question in the first section about the Book Club to see the dates\, times\, and selected books for each meeting. Contact information for joining is also posted there.
URL:https://www.callonwood.com/event/callonwood-book-club-meeting-9/
LOCATION:Callonwood Clubhouse
CATEGORIES:Callonwood Events
ATTACH;FMTTYPE=image/png:https://www.callonwood.com/wp-content/uploads/Book-Club-e1665602479235.png
END:VEVENT
BEGIN:VEVENT
DTSTART;TZID=America/New_York:20251017T170000
DTEND;TZID=America/New_York:20251017T200000
DTSTAMP:20260419T094737
CREATED:20250415T125528Z
LAST-MODIFIED:20251014T224641Z
UID:1225-1760720400-1760731200@www.callonwood.com
SUMMARY:Food Truck Friday - October 17\, 2025
DESCRIPTION:Food Truck Friday –  October 17\, 2025\n-Last one for 2025-\nAt the Callonwood Park (1801 Hammond Drive)\n5pm to 8pm \nParticipating Food Trucks: \n\nA&B Food Truck — Click here for menu\nKing of Fire Pizza — Click here for menu   (You can pre-order and pickup)\nLobster Dogs — Click here for menu   \nThe Sweetest Thing Back Shop
URL:https://www.callonwood.com/event/food-truck-friday-oct-17-2025/
LOCATION:Callonwood Park
CATEGORIES:Callonwood Events
ATTACH;FMTTYPE=image/png:https://www.callonwood.com/wp-content/uploads/Oct-2025-Food-Truck2.png
END:VEVENT
BEGIN:VEVENT
DTSTART;TZID=America/New_York:20251026T150000
DTEND;TZID=America/New_York:20251026T170000
DTSTAMP:20260419T094737
CREATED:20250823T200706Z
LAST-MODIFIED:20250823T201341Z
UID:1306-1761490800-1761498000@www.callonwood.com
SUMMARY:Callonwood Halloween Carnival - October 26\, 2025
DESCRIPTION:Callonwood Halloween Carnival –  October 26\, 2025\nAt the Callonwood Clubhouse\n3:00pm to 5:00pm \nGames\, Sweet & Spooktacular Treats!\nCostumes Encouraged! \nPumpkin Carving & Decorating will be set up — You just need to supply the pumpkin.
URL:https://www.callonwood.com/event/halloween-carnival-october-26-2025/
LOCATION:Callonwood Clubhouse
CATEGORIES:Callonwood Events
ATTACH;FMTTYPE=image/png:https://www.callonwood.com/wp-content/uploads/HalloweenParty-2025.png
END:VEVENT
END:VCALENDAR