BEGIN:VCALENDAR
VERSION:2.0
PRODID:-//Callonwood - ECPv6.15.20//NONSGML v1.0//EN
CALSCALE:GREGORIAN
METHOD:PUBLISH
X-ORIGINAL-URL:https://www.callonwood.com
X-WR-CALDESC:Events for Callonwood
REFRESH-INTERVAL;VALUE=DURATION:PT1H
X-Robots-Tag:noindex
X-PUBLISHED-TTL:PT1H
BEGIN:VTIMEZONE
TZID:America/New_York
BEGIN:DAYLIGHT
TZOFFSETFROM:-0500
TZOFFSETTO:-0400
TZNAME:EDT
DTSTART:20240310T070000
END:DAYLIGHT
BEGIN:STANDARD
TZOFFSETFROM:-0400
TZOFFSETTO:-0500
TZNAME:EST
DTSTART:20241103T060000
END:STANDARD
BEGIN:DAYLIGHT
TZOFFSETFROM:-0500
TZOFFSETTO:-0400
TZNAME:EDT
DTSTART:20250309T070000
END:DAYLIGHT
BEGIN:STANDARD
TZOFFSETFROM:-0400
TZOFFSETTO:-0500
TZNAME:EST
DTSTART:20251102T060000
END:STANDARD
BEGIN:DAYLIGHT
TZOFFSETFROM:-0500
TZOFFSETTO:-0400
TZNAME:EDT
DTSTART:20260308T070000
END:DAYLIGHT
BEGIN:STANDARD
TZOFFSETFROM:-0400
TZOFFSETTO:-0500
TZNAME:EST
DTSTART:20261101T060000
END:STANDARD
END:VTIMEZONE
BEGIN:VEVENT
DTSTART;TZID=America/New_York:20250908T190000
DTEND;TZID=America/New_York:20250908T200000
DTSTAMP:20260419T113023
CREATED:20250823T180043Z
LAST-MODIFIED:20250823T180158Z
UID:1297-1757358000-1757361600@www.callonwood.com
SUMMARY:Callonwood Book Club Meeting
DESCRIPTION:The Callonwood Book Club meets the second Monday of each month (September through May) from 7 PM – 8 PM in the Clubhouse. \nPlease visit our FAQ page and refer to the question in the first section about the Book Club to see the dates\, times\, and selected books for each meeting. Contact information for joining is also posted there.
URL:https://www.callonwood.com/event/callonwood-book-club-meeting-8/
LOCATION:Callonwood Clubhouse
CATEGORIES:Callonwood Events
ATTACH;FMTTYPE=image/png:https://www.callonwood.com/wp-content/uploads/Book-Club-e1665602479235.png
END:VEVENT
BEGIN:VEVENT
DTSTART;TZID=America/New_York:20250912T183000
DTEND;TZID=America/New_York:20250912T203000
DTSTAMP:20260419T113023
CREATED:20250823T201025Z
LAST-MODIFIED:20250823T201358Z
UID:1309-1757701800-1757709000@www.callonwood.com
SUMMARY:Callonwood Trivia Night - September 12\, 2025
DESCRIPTION:Callonwood Trivia Night –  September 12\, 2025\n-Last one for 2025-\nAt the Callonwood Clubhouse\nStarts at 6:30pm \nDoors open at 6:00pm\nOnly 30 seats available\nSignup as a team or individual at social@callonwood.com by Sept 10
URL:https://www.callonwood.com/event/callonwood-trivia-night-sept-12-2025/
LOCATION:Callonwood Clubhouse
CATEGORIES:Callonwood Events
ATTACH;FMTTYPE=image/png:https://www.callonwood.com/wp-content/uploads/Sept2025-trivia.png
END:VEVENT
BEGIN:VEVENT
DTSTART;TZID=America/New_York:20250919T170000
DTEND;TZID=America/New_York:20250919T200000
DTSTAMP:20260419T113023
CREATED:20250415T125444Z
LAST-MODIFIED:20250910T152907Z
UID:1223-1758301200-1758312000@www.callonwood.com
SUMMARY:Food Truck Friday - September 19\, 2025
DESCRIPTION:Food Truck Friday –  September 19\, 2025\nAt the Callonwood Park (1801 Hammond Drive)\n5:00pm to 8pm
URL:https://www.callonwood.com/event/food-truck-friday-sept-19-2025/
LOCATION:Callonwood Park
CATEGORIES:Callonwood Events
ATTACH;FMTTYPE=image/png:https://www.callonwood.com/wp-content/uploads/Sept-Food-Trucks-2025.png
END:VEVENT
BEGIN:VEVENT
DTSTART;TZID=America/New_York:20250920T090000
DTEND;TZID=America/New_York:20250920T110000
DTSTAMP:20260419T113023
CREATED:20250823T172333Z
LAST-MODIFIED:20250823T172504Z
UID:1293-1758358800-1758366000@www.callonwood.com
SUMMARY:Callonwood Gardeners Club - Plant / Seed Exchange
DESCRIPTION:Callonwood Gardeners Club – \nHello gardeners!  It has been a challenging garden season. Too much heat followed by too much rain. But gardeners are always hopeful. So\, on September 20th from 9-11 am we will hold a plant and seed exchange at the playground parking lot. Hope you will join in\, it should be interesting. \nFacebook Group Link
URL:https://www.callonwood.com/event/callonwood-gardeners-club-plant-seed-exchange/
CATEGORIES:Callonwood Events
ATTACH;FMTTYPE=image/png:https://www.callonwood.com/wp-content/uploads/callonwood-gardeners-club.png
END:VEVENT
END:VCALENDAR