BEGIN:VCALENDAR
VERSION:2.0
PRODID:-//Callonwood - ECPv6.15.20//NONSGML v1.0//EN
CALSCALE:GREGORIAN
METHOD:PUBLISH
X-ORIGINAL-URL:https://www.callonwood.com
X-WR-CALDESC:Events for Callonwood
REFRESH-INTERVAL;VALUE=DURATION:PT1H
X-Robots-Tag:noindex
X-PUBLISHED-TTL:PT1H
BEGIN:VTIMEZONE
TZID:America/New_York
BEGIN:DAYLIGHT
TZOFFSETFROM:-0500
TZOFFSETTO:-0400
TZNAME:EDT
DTSTART:20230312T070000
END:DAYLIGHT
BEGIN:STANDARD
TZOFFSETFROM:-0400
TZOFFSETTO:-0500
TZNAME:EST
DTSTART:20231105T060000
END:STANDARD
BEGIN:DAYLIGHT
TZOFFSETFROM:-0500
TZOFFSETTO:-0400
TZNAME:EDT
DTSTART:20240310T070000
END:DAYLIGHT
BEGIN:STANDARD
TZOFFSETFROM:-0400
TZOFFSETTO:-0500
TZNAME:EST
DTSTART:20241103T060000
END:STANDARD
BEGIN:DAYLIGHT
TZOFFSETFROM:-0500
TZOFFSETTO:-0400
TZNAME:EDT
DTSTART:20250309T070000
END:DAYLIGHT
BEGIN:STANDARD
TZOFFSETFROM:-0400
TZOFFSETTO:-0500
TZNAME:EST
DTSTART:20251102T060000
END:STANDARD
END:VTIMEZONE
BEGIN:VEVENT
DTSTART;TZID=America/New_York:20240504T183000
DTEND;TZID=America/New_York:20240504T220000
DTSTAMP:20260420T143338
CREATED:20240418T161153Z
LAST-MODIFIED:20240418T161153Z
UID:935-1714847400-1714860000@www.callonwood.com
SUMMARY:Cinco de Mayo Celebration (Adults Only)
DESCRIPTION:Callonwood Cinco de Mayo Party\n-Adults Only- \nSaturday\, May 4\, 2024\n6:30pm to 10pm\n@ The Clubhouse \nFood will be provided.\nMargarita Machines and Mixer provided – Bring your own alcohol \nKaraoke available \nMust RSVP by May 1st to social@callonwood.com
URL:https://www.callonwood.com/event/cinco-de-mayo-celebration-adults-only/
LOCATION:Callonwood Clubhouse
CATEGORIES:Callonwood Events
ATTACH;FMTTYPE=image/png:https://www.callonwood.com/wp-content/uploads/CincoParty_2024.png
END:VEVENT
BEGIN:VEVENT
DTSTART;TZID=America/New_York:20240511T080000
DTEND;TZID=America/New_York:20240511T130000
DTSTAMP:20260420T143338
CREATED:20240201T231258Z
LAST-MODIFIED:20240502T223933Z
UID:898-1715414400-1715432400@www.callonwood.com
SUMMARY:Callonwood Spring Yard Sale - May 11\, 2024
DESCRIPTION:Callonwood Spring Yard Sale\nMay 11\, 2024\n8am – 1pm \nIf you want to be included in the “map” of yard sales – send your address & list of items to social@callonwood.com no later than May 8th.\nExample: “1650 Hammond Drive – furniture\, clothes\, kitchen items”
URL:https://www.callonwood.com/event/callonwood-spring-yard-sale-may-11-2024/
CATEGORIES:Callonwood Events
ATTACH;FMTTYPE=image/png:https://www.callonwood.com/wp-content/uploads/may2024-yard-sale.png
END:VEVENT
BEGIN:VEVENT
DTSTART;TZID=America/New_York:20240513T190000
DTEND;TZID=America/New_York:20240513T200000
DTSTAMP:20260420T143338
CREATED:20230831T195330Z
LAST-MODIFIED:20230831T195330Z
UID:802-1715626800-1715630400@www.callonwood.com
SUMMARY:Callonwood Book Club Meeting
DESCRIPTION:The Callonwood Book Club meets the second Monday of each month (September thru June) from 7pm – 8pm in the Clubhouse. \nPlease visit our FAQ page and refer to the question in the first section about the Book Club to see the dates\, times and selected book for each meeting.  Contact information for joining is also posted there.
URL:https://www.callonwood.com/event/callonwood-book-club-meeting-may2024/
LOCATION:Callonwood Clubhouse
CATEGORIES:Callonwood Events
ATTACH;FMTTYPE=image/png:https://www.callonwood.com/wp-content/uploads/Book-Club-e1665602479235.png
END:VEVENT
BEGIN:VEVENT
DTSTART;TZID=America/New_York:20240517T173000
DTEND;TZID=America/New_York:20240517T200000
DTSTAMP:20260420T143338
CREATED:20240201T230509Z
LAST-MODIFIED:20240418T160822Z
UID:885-1715967000-1715976000@www.callonwood.com
SUMMARY:Food Truck Friday - May 17\, 2024
DESCRIPTION:Food Truck Friday – May 17\, 2024\n5:30pm to 8pm\nAt the Callonwood Park (1801 Hammond Drive) \nFeaturing:\nHoly Moly Burgers\nKing of Fire Pizza\nThe Sweetest Thing
URL:https://www.callonwood.com/event/food-truck-friday-may-17-2024/
LOCATION:Callonwood Park
CATEGORIES:Callonwood Events
ATTACH;FMTTYPE=image/png:https://www.callonwood.com/wp-content/uploads/Food-Truck-Fridays-ARE-BACK.png
END:VEVENT
BEGIN:VEVENT
DTSTART;TZID=America/New_York:20240523T190000
DTEND;TZID=America/New_York:20240523T203000
DTSTAMP:20260420T143338
CREATED:20240106T175259Z
LAST-MODIFIED:20240524T012803Z
UID:865-1716490800-1716496200@www.callonwood.com
SUMMARY:Private - Closed Board Meeting - May 23 2024
DESCRIPTION:Clubhouse – Private Event\nClosed Board Meeting\nNot open for public/neighbor attendance\nMay 23\, 2024 @ 7pm
URL:https://www.callonwood.com/event/private-closed-board-meeting-may-23-2024-2/
LOCATION:Callonwood Clubhouse
CATEGORIES:Board Meetings,Callonwood Events
ATTACH;FMTTYPE=image/gif:https://www.callonwood.com/wp-content/uploads/private-event.gif
END:VEVENT
END:VCALENDAR