BEGIN:VCALENDAR
VERSION:2.0
PRODID:-//Callonwood - ECPv6.15.20//NONSGML v1.0//EN
CALSCALE:GREGORIAN
METHOD:PUBLISH
X-ORIGINAL-URL:https://www.callonwood.com
X-WR-CALDESC:Events for Callonwood
REFRESH-INTERVAL;VALUE=DURATION:PT1H
X-Robots-Tag:noindex
X-PUBLISHED-TTL:PT1H
BEGIN:VTIMEZONE
TZID:America/New_York
BEGIN:DAYLIGHT
TZOFFSETFROM:-0500
TZOFFSETTO:-0400
TZNAME:EDT
DTSTART:20220313T070000
END:DAYLIGHT
BEGIN:STANDARD
TZOFFSETFROM:-0400
TZOFFSETTO:-0500
TZNAME:EST
DTSTART:20221106T060000
END:STANDARD
BEGIN:DAYLIGHT
TZOFFSETFROM:-0500
TZOFFSETTO:-0400
TZNAME:EDT
DTSTART:20230312T070000
END:DAYLIGHT
BEGIN:STANDARD
TZOFFSETFROM:-0400
TZOFFSETTO:-0500
TZNAME:EST
DTSTART:20231105T060000
END:STANDARD
BEGIN:DAYLIGHT
TZOFFSETFROM:-0500
TZOFFSETTO:-0400
TZNAME:EDT
DTSTART:20240310T070000
END:DAYLIGHT
BEGIN:STANDARD
TZOFFSETFROM:-0400
TZOFFSETTO:-0500
TZNAME:EST
DTSTART:20241103T060000
END:STANDARD
END:VTIMEZONE
BEGIN:VEVENT
DTSTART;TZID=America/New_York:20231007T130000
DTEND;TZID=America/New_York:20231007T170000
DTSTAMP:20260423T055043
CREATED:20230427T002624Z
LAST-MODIFIED:20230606T203347Z
UID:728-1696683600-1696698000@www.callonwood.com
SUMMARY:Private Event – October 7 2023
DESCRIPTION:Clubhouse Rental – Private Event\nOctober 7\, 2023\n1pm – 5pm
URL:https://www.callonwood.com/event/private-event-october-7-2023/
LOCATION:Callonwood Clubhouse
CATEGORIES:Callonwood Events
ATTACH;FMTTYPE=image/gif:https://www.callonwood.com/wp-content/uploads/private-event.gif
END:VEVENT
BEGIN:VEVENT
DTSTART;TZID=America/New_York:20231009T190000
DTEND;TZID=America/New_York:20231009T200000
DTSTAMP:20260423T055043
CREATED:20230831T194539Z
LAST-MODIFIED:20230831T194539Z
UID:788-1696878000-1696881600@www.callonwood.com
SUMMARY:Callonwood Book Club Meeting
DESCRIPTION:The Callonwood Book Club meets the second Monday of each month (September thru June) from 7pm – 8pm in the Clubhouse. \nPlease visit our FAQ page and refer to the question in the first section about the Book Club to see the dates\, times and selected book for each meeting.  Contact information for joining is also posted there.
URL:https://www.callonwood.com/event/callonwood-book-club-meeting-oct2023/
LOCATION:Callonwood Clubhouse
CATEGORIES:Callonwood Events
ATTACH;FMTTYPE=image/png:https://www.callonwood.com/wp-content/uploads/Book-Club-e1665602479235.png
END:VEVENT
BEGIN:VEVENT
DTSTART;TZID=America/New_York:20231015T120000
DTEND;TZID=America/New_York:20231015T180000
DTSTAMP:20260423T055043
CREATED:20230925T225436Z
LAST-MODIFIED:20230925T225436Z
UID:815-1697371200-1697392800@www.callonwood.com
SUMMARY:Panthers Watch Party & Tailgate at the Clubhouse
DESCRIPTION:Panthers Watch Party & Tailgate at the Clubhouse\nSunday\, October 15 @ The Clubhouse\nNoon – 6:00pm \nBring a tailgate food to share and your own drinks.\nWings will be provided by the Social Committee.\nWill have Panthers Game on at 1pm and corn hole on the lawn if weather permits.
URL:https://www.callonwood.com/event/panthers-watch-party-tailgate-at-the-clubhouse/
LOCATION:Callonwood Clubhouse
CATEGORIES:Callonwood Events
ATTACH;FMTTYPE=image/jpeg:https://www.callonwood.com/wp-content/uploads/Football-Tailgate-2023.jpg
END:VEVENT
BEGIN:VEVENT
DTSTART;TZID=America/New_York:20231020T170000
DTEND;TZID=America/New_York:20231020T190000
DTSTAMP:20260423T055043
CREATED:20230108T142642Z
LAST-MODIFIED:20230108T142642Z
UID:622-1697821200-1697828400@www.callonwood.com
SUMMARY:Food Truck Friday - Oct 20\, 2023
DESCRIPTION:Food Truck Friday at the Park\n(Last one of 2023)\nOctober 20\, 2023\n5 – 7:00 pm
URL:https://www.callonwood.com/event/food-truck-friday-oct-20-2023/
LOCATION:Callonwood Park
CATEGORIES:Callonwood Events
ATTACH;FMTTYPE=image/png:https://www.callonwood.com/wp-content/uploads/2022/07/food-truck-e1658156665263.png
END:VEVENT
BEGIN:VEVENT
DTSTART;TZID=America/New_York:20231021T080000
DTEND;TZID=America/New_York:20231021T130000
DTSTAMP:20260423T055043
CREATED:20231012T135217Z
LAST-MODIFIED:20231012T135240Z
UID:826-1697875200-1697893200@www.callonwood.com
SUMMARY:Callonwood Neighborhood Garage Sale
DESCRIPTION:Callonwood Neighborhood Garage Sale\nOctober 21\, 2023 — 8am to 1pm \nTime to clean out those closets\, garages and extra rooms — Callonwood is having a neighborhood-wide Garage Sale! \nSigns will be put up at the entrances and posted in local yard sale Facebook groups.
URL:https://www.callonwood.com/event/2023-garage-sale/
CATEGORIES:Callonwood Events
ATTACH;FMTTYPE=image/png:https://www.callonwood.com/wp-content/uploads/2023-garage-sale.png
END:VEVENT
BEGIN:VEVENT
DTSTART;TZID=America/New_York:20231025T183000
DTEND;TZID=America/New_York:20231025T200000
DTSTAMP:20260423T055043
CREATED:20230102T013154Z
LAST-MODIFIED:20231012T141105Z
UID:595-1698258600-1698264000@www.callonwood.com
SUMMARY:Townhome Quarterly Board Meeting - October 25 2023
DESCRIPTION:Townhome Quarterly Board Meeting\nOctober 25\, 2023\n6:30pm
URL:https://www.callonwood.com/event/townhome-quarterly-board-meeting-october-25-2023/
LOCATION:Callonwood Clubhouse
CATEGORIES:Callonwood Events
ATTACH;FMTTYPE=image/jpeg:https://www.callonwood.com/wp-content/uploads/2022/07/meeting.jpg
END:VEVENT
END:VCALENDAR