BEGIN:VCALENDAR
VERSION:2.0
PRODID:-//Callonwood - ECPv6.15.20//NONSGML v1.0//EN
CALSCALE:GREGORIAN
METHOD:PUBLISH
X-WR-CALNAME:Callonwood
X-ORIGINAL-URL:https://www.callonwood.com
X-WR-CALDESC:Events for Callonwood
REFRESH-INTERVAL;VALUE=DURATION:PT1H
X-Robots-Tag:noindex
X-PUBLISHED-TTL:PT1H
BEGIN:VTIMEZONE
TZID:America/New_York
BEGIN:DAYLIGHT
TZOFFSETFROM:-0500
TZOFFSETTO:-0400
TZNAME:EDT
DTSTART:20230312T070000
END:DAYLIGHT
BEGIN:STANDARD
TZOFFSETFROM:-0400
TZOFFSETTO:-0500
TZNAME:EST
DTSTART:20231105T060000
END:STANDARD
BEGIN:DAYLIGHT
TZOFFSETFROM:-0500
TZOFFSETTO:-0400
TZNAME:EDT
DTSTART:20240310T070000
END:DAYLIGHT
BEGIN:STANDARD
TZOFFSETFROM:-0400
TZOFFSETTO:-0500
TZNAME:EST
DTSTART:20241103T060000
END:STANDARD
BEGIN:DAYLIGHT
TZOFFSETFROM:-0500
TZOFFSETTO:-0400
TZNAME:EDT
DTSTART:20250309T070000
END:DAYLIGHT
BEGIN:STANDARD
TZOFFSETFROM:-0400
TZOFFSETTO:-0500
TZNAME:EST
DTSTART:20251102T060000
END:STANDARD
END:VTIMEZONE
BEGIN:VEVENT
DTSTART;TZID=America/New_York:20240928T100000
DTEND;TZID=America/New_York:20240928T170000
DTSTAMP:20260420T030655
CREATED:20240625T002455Z
LAST-MODIFIED:20240625T004040Z
UID:1027-1727517600-1727542800@www.callonwood.com
SUMMARY:Private Event – September 28\, 2024
DESCRIPTION:Clubhouse Rental – Private Event\nSeptember 28\, 2024\n10am – 5pm
URL:https://www.callonwood.com/event/private-event-sept-28-2024/
LOCATION:Callonwood Clubhouse
CATEGORIES:Callonwood Events
ATTACH;FMTTYPE=image/gif:https://www.callonwood.com/wp-content/uploads/private-event.gif
END:VEVENT
BEGIN:VEVENT
DTSTART;TZID=America/New_York:20240928T080000
DTEND;TZID=America/New_York:20240928T130000
DTSTAMP:20260420T030655
CREATED:20240730T012919Z
LAST-MODIFIED:20240730T012919Z
UID:1046-1727510400-1727528400@www.callonwood.com
SUMMARY:Callonwood Fall Yard Sale -- September 28\, 2024
DESCRIPTION:Come One\, Call All!\nCallonwood Fall Yard Sale\nSeptember 28th\, 2024 @ 8am-1pm \nMore details to come!
URL:https://www.callonwood.com/event/fall-yard-sale-sept-2024/
CATEGORIES:Callonwood Events
ATTACH;FMTTYPE=image/png:https://www.callonwood.com/wp-content/uploads/fall-yard-sale-2024.png
END:VEVENT
BEGIN:VEVENT
DTSTART;TZID=America/New_York:20240926T190000
DTEND;TZID=America/New_York:20240926T203000
DTSTAMP:20260420T030655
CREATED:20240106T175649Z
LAST-MODIFIED:20240524T013006Z
UID:871-1727377200-1727382600@www.callonwood.com
SUMMARY:Private - Closed Board Meeting - September 26 2024
DESCRIPTION:Clubhouse – Private Event\nClosed Board Meeting\nNot open for public/neighbor attendance\nSeptember 26\, 2024 @ 7pm
URL:https://www.callonwood.com/event/private-closed-board-meeting-sept-26-2024/
LOCATION:Callonwood Clubhouse
CATEGORIES:Board Meetings,Callonwood Events
ATTACH;FMTTYPE=image/gif:https://www.callonwood.com/wp-content/uploads/private-event.gif
END:VEVENT
BEGIN:VEVENT
DTSTART;TZID=America/New_York:20240921T170000
DTEND;TZID=America/New_York:20240921T220000
DTSTAMP:20260420T030655
CREATED:20240812T235922Z
LAST-MODIFIED:20240918T104719Z
UID:1057-1726938000-1726956000@www.callonwood.com
SUMMARY:Private Event – September 21\, 2024
DESCRIPTION:Clubhouse Rental – Private Event\nSeptember 21\, 2024\n5pm – 10pm
URL:https://www.callonwood.com/event/private-event-sept-21-2024/
LOCATION:Callonwood Clubhouse
CATEGORIES:Callonwood Events
ATTACH;FMTTYPE=image/gif:https://www.callonwood.com/wp-content/uploads/private-event.gif
END:VEVENT
BEGIN:VEVENT
DTSTART;TZID=America/New_York:20240920T170000
DTEND;TZID=America/New_York:20240920T200000
DTSTAMP:20260420T030655
CREATED:20240201T230922Z
LAST-MODIFIED:20240918T172014Z
UID:894-1726851600-1726862400@www.callonwood.com
SUMMARY:Food Truck Friday - September 20\, 2024
DESCRIPTION:Food Truck Friday – September 20\, 2024\n5:00pm to 8pm\nAt the Callonwood Park (1801 Hammond Drive)
URL:https://www.callonwood.com/event/food-truck-friday-sept-20-2024/
LOCATION:Callonwood Park
CATEGORIES:Callonwood Events
ATTACH;FMTTYPE=image/png:https://www.callonwood.com/wp-content/uploads/foodtruck-sept-revised.png
END:VEVENT
BEGIN:VEVENT
DTSTART;TZID=America/New_York:20240912T190000
DTEND;TZID=America/New_York:20240912T220000
DTSTAMP:20260420T030655
CREATED:20240904T130349Z
LAST-MODIFIED:20240904T130349Z
UID:1066-1726167600-1726178400@www.callonwood.com
SUMMARY:Callonwood Men's Poker Night -- September 12\, 2024
DESCRIPTION:Callonwood Men’s Poker Night\nSeptember 12\, 2024 @ 7pm-10pm\nThe Clubhouse \nMust RSVP to social@callonwood.com to reserve a spot. \nSnacks will be provided\, Drinks are BYOB
URL:https://www.callonwood.com/event/mens-poker-night-september-12-2024/
LOCATION:Callonwood Clubhouse
CATEGORIES:Callonwood Events
ATTACH;FMTTYPE=image/png:https://www.callonwood.com/wp-content/uploads/poker-night.png
END:VEVENT
BEGIN:VEVENT
DTSTART;TZID=America/New_York:20240822T190000
DTEND;TZID=America/New_York:20240822T203000
DTSTAMP:20260420T030655
CREATED:20240106T175526Z
LAST-MODIFIED:20240524T013023Z
UID:869-1724353200-1724358600@www.callonwood.com
SUMMARY:Private - Closed Board Meeting - August 22 2024
DESCRIPTION:Clubhouse – Private Event\nClosed Board Meeting\nNot open for public/neighbor attendance\nAugust 22\, 2024 @ 7pm
URL:https://www.callonwood.com/event/private-closed-board-meeting-aug-22-2024/
LOCATION:Callonwood Clubhouse
CATEGORIES:Board Meetings,Callonwood Events
ATTACH;FMTTYPE=image/gif:https://www.callonwood.com/wp-content/uploads/private-event.gif
END:VEVENT
BEGIN:VEVENT
DTSTART;TZID=America/New_York:20240819T170000
DTEND;TZID=America/New_York:20240819T210000
DTSTAMP:20260420T030655
CREATED:20240812T235821Z
LAST-MODIFIED:20240812T235825Z
UID:1055-1724086800-1724101200@www.callonwood.com
SUMMARY:Private Event – August 19\, 2024
DESCRIPTION:Clubhouse Rental – Private Event\nAugust 19\, 2024\n5pm – 9pm
URL:https://www.callonwood.com/event/private-event-aug-19-2024/
LOCATION:Callonwood Clubhouse
CATEGORIES:Callonwood Events
ATTACH;FMTTYPE=image/gif:https://www.callonwood.com/wp-content/uploads/private-event.gif
END:VEVENT
BEGIN:VEVENT
DTSTART;TZID=America/New_York:20240817T173000
DTEND;TZID=America/New_York:20240817T200000
DTSTAMP:20260420T030655
CREATED:20240201T230832Z
LAST-MODIFIED:20240201T230832Z
UID:892-1723915800-1723924800@www.callonwood.com
SUMMARY:Food Truck Friday (on Saturday) - August 17\, 2024
DESCRIPTION:Food Truck Friday (on Saturday) – August 17\, 2024\nThis week is on Saturday in conjunction with Summer Movie Night\n5:30pm to 8pm\nAt the Callonwood Park (1801 Hammond Drive)
URL:https://www.callonwood.com/event/food-truck-friday-aug-17-2024/
LOCATION:Callonwood Park
CATEGORIES:Callonwood Events
ATTACH;FMTTYPE=image/jpeg:https://www.callonwood.com/wp-content/uploads/2024-foodtruck-fridays.jpg
END:VEVENT
BEGIN:VEVENT
DTSTART;TZID=America/New_York:20240817T170000
DTEND;TZID=America/New_York:20240817T223000
DTSTAMP:20260420T030655
CREATED:20240730T011922Z
LAST-MODIFIED:20240730T011922Z
UID:1040-1723914000-1723933800@www.callonwood.com
SUMMARY:Callonwood Movie Night -- August 17\, 2024
DESCRIPTION:Callonwood Movie Night\nPlus Food Trucks\nAugust 17\, 2024 on the Lawn by Pool \n5-8pm Tood Truck\n6-8pm Lawn Games\n8:30pm Movie Starts
URL:https://www.callonwood.com/event/callonwood-movie-aug17-2024/
CATEGORIES:Callonwood Events
ATTACH;FMTTYPE=image/png:https://www.callonwood.com/wp-content/uploads/aug17-2024-movie-night.png
END:VEVENT
BEGIN:VEVENT
DTSTART;TZID=America/New_York:20240816T170000
DTEND;TZID=America/New_York:20240816T230000
DTSTAMP:20260420T030655
CREATED:20240625T002344Z
LAST-MODIFIED:20240625T002344Z
UID:1025-1723827600-1723849200@www.callonwood.com
SUMMARY:Private Event – August 16\, 2024
DESCRIPTION:Clubhouse Rental – Private Event\nAugust 16\, 2024\n5pm – 11pm
URL:https://www.callonwood.com/event/private-event-august-16-2024/
LOCATION:Callonwood Clubhouse
CATEGORIES:Callonwood Events
ATTACH;FMTTYPE=image/gif:https://www.callonwood.com/wp-content/uploads/private-event.gif
END:VEVENT
BEGIN:VEVENT
DTSTART;TZID=America/New_York:20240814T180000
DTEND;TZID=America/New_York:20240814T193000
DTSTAMP:20260420T030655
CREATED:20240802T232906Z
LAST-MODIFIED:20240802T232906Z
UID:1052-1723658400-1723663800@www.callonwood.com
SUMMARY:Private - Closed Townhomes Board Meeting - August 14\, 2024
DESCRIPTION:Clubhouse – Private Event\nClosed Townhomes Board Meeting\nNot open for public/neighbor attendance\nAugust 14\, 2024 @ 6pm
URL:https://www.callonwood.com/event/private-board-meeting-aug-14-2024/
LOCATION:Callonwood Clubhouse
CATEGORIES:Board Meetings,Callonwood Events
ATTACH;FMTTYPE=image/gif:https://www.callonwood.com/wp-content/uploads/private-event.gif
END:VEVENT
BEGIN:VEVENT
DTSTART;TZID=America/New_York:20240810T183000
DTEND;TZID=America/New_York:20240810T213000
DTSTAMP:20260420T030655
CREATED:20240730T012656Z
LAST-MODIFIED:20240730T012656Z
UID:1043-1723314600-1723325400@www.callonwood.com
SUMMARY:Happy Hour at the Pool -- August 10\, 2024
DESCRIPTION:Come Join Us by the Pool for Happy  Hour\nSaturday\, August 10\, 2024 @ 6:30-9:30pm \nBYOB & Appetizer to Share \nRSVP via Facebook Event OR social@callonwood.com \nNote: Pool will close 30 minutes prior to start to anyone under the age of 18.
URL:https://www.callonwood.com/event/happy-hour-aug10-2024/
CATEGORIES:Callonwood Events
ATTACH;FMTTYPE=image/png:https://www.callonwood.com/wp-content/uploads/happy-hour-aug2024.png
END:VEVENT
BEGIN:VEVENT
DTSTART;TZID=America/New_York:20240809T190000
DTEND;TZID=America/New_York:20240809T210000
DTSTAMP:20260420T030655
CREATED:20240601T202419Z
LAST-MODIFIED:20240601T202419Z
UID:999-1723230000-1723237200@www.callonwood.com
SUMMARY:Callonwood Trivia Night -- August 9\, 2024
DESCRIPTION:Callonwood Trivia Night\nAugust 9th @ 7pm\nThe Clubhouse
URL:https://www.callonwood.com/event/callonwood-trivia-night-august-9-2024/
LOCATION:Callonwood Clubhouse
CATEGORIES:Callonwood Events
ATTACH;FMTTYPE=image/png:https://www.callonwood.com/wp-content/uploads/trivia-nights.png
END:VEVENT
BEGIN:VEVENT
DTSTART;TZID=America/New_York:20240804T100000
DTEND;TZID=America/New_York:20240804T170000
DTSTAMP:20260420T030655
CREATED:20240625T002241Z
LAST-MODIFIED:20240625T002241Z
UID:1023-1722765600-1722790800@www.callonwood.com
SUMMARY:Private Event – August 4\, 2024
DESCRIPTION:Clubhouse Rental – Private Event\nAugust 4\, 2024\n10am – 5pm
URL:https://www.callonwood.com/event/private-event-august-4-2024/
LOCATION:Callonwood Clubhouse
CATEGORIES:Callonwood Events
ATTACH;FMTTYPE=image/gif:https://www.callonwood.com/wp-content/uploads/private-event.gif
END:VEVENT
BEGIN:VEVENT
DTSTART;TZID=America/New_York:20240803T100000
DTEND;TZID=America/New_York:20240803T170000
DTSTAMP:20260420T030655
CREATED:20240625T002158Z
LAST-MODIFIED:20240625T002158Z
UID:1021-1722679200-1722704400@www.callonwood.com
SUMMARY:Private Event – August 3\, 2024
DESCRIPTION:Clubhouse Rental – Private Event\nAugust 3\, 2024\n10am – 5pm
URL:https://www.callonwood.com/event/private-event-august-3-2024/
LOCATION:Callonwood Clubhouse
CATEGORIES:Callonwood Events
ATTACH;FMTTYPE=image/gif:https://www.callonwood.com/wp-content/uploads/private-event.gif
END:VEVENT
BEGIN:VEVENT
DTSTART;TZID=America/New_York:20240725T190000
DTEND;TZID=America/New_York:20240725T203000
DTSTAMP:20260420T030655
CREATED:20240106T171333Z
LAST-MODIFIED:20240423T170859Z
UID:857-1721934000-1721939400@www.callonwood.com
SUMMARY:HOA Open Board Meeting - July 25\, 2024
DESCRIPTION:HOA OPEN BOARD MEETING NOTICE \nThere will be an open board meeting Thursday\, July 25\, 2024 to begin at 7pm. \nThis will be held at the Callonwood Clubhouse\, located at 1001 Sarandon Drive in Stallings\, NC 28104. \nLooking forward to seeing everyone at the meeting!! \nSincerely\,\nCallonwood Board of Directors
URL:https://www.callonwood.com/event/hoa-open-board-meeting-july-25-2024-2/
LOCATION:Callonwood Clubhouse
CATEGORIES:Board Meetings,Callonwood Events
ATTACH;FMTTYPE=image/jpeg:https://www.callonwood.com/wp-content/uploads/2022/07/meeting.jpg
END:VEVENT
BEGIN:VEVENT
DTSTART;TZID=America/New_York:20240724T183000
DTEND;TZID=America/New_York:20240724T200000
DTSTAMP:20260420T030655
CREATED:20240106T170804Z
LAST-MODIFIED:20240106T170804Z
UID:849-1721845800-1721851200@www.callonwood.com
SUMMARY:Townhomes Open Board Meeting - July 24\, 2024
DESCRIPTION:TOWNHOMES OPEN BOARD MEETING NOTICE \nThere will be an open Townhomes board meeting Wednesday\, July 24\, 2024 to begin at 6:30pm. \nThis will be held at the Callonwood Clubhouse\, located at 1001 Sarandon Drive in Stallings\, NC 28104. \nLooking forward to seeing everyone at the meeting!! \nSincerely\,\nCallonwood Board of Directors
URL:https://www.callonwood.com/event/townhomes-open-board-meeting-july-24-2024-2/
LOCATION:Callonwood Clubhouse
CATEGORIES:Board Meetings,Callonwood Events
ATTACH;FMTTYPE=image/jpeg:https://www.callonwood.com/wp-content/uploads/2022/07/meeting.jpg
END:VEVENT
BEGIN:VEVENT
DTSTART;TZID=America/New_York:20240720T170000
DTEND;TZID=America/New_York:20240720T230000
DTSTAMP:20260420T030655
CREATED:20240625T002006Z
LAST-MODIFIED:20240625T002006Z
UID:1019-1721494800-1721516400@www.callonwood.com
SUMMARY:Private Event – July 20\, 2024
DESCRIPTION:Clubhouse Rental – Private Event\nJuly 20\, 2024\n5pm – 11pm
URL:https://www.callonwood.com/event/private-event-july-20-2024/
LOCATION:Callonwood Clubhouse
CATEGORIES:Callonwood Events
ATTACH;FMTTYPE=image/gif:https://www.callonwood.com/wp-content/uploads/private-event.gif
END:VEVENT
BEGIN:VEVENT
DTSTART;TZID=America/New_York:20240719T173000
DTEND;TZID=America/New_York:20240719T200000
DTSTAMP:20260420T030655
CREATED:20240201T230710Z
LAST-MODIFIED:20240201T230710Z
UID:890-1721410200-1721419200@www.callonwood.com
SUMMARY:Food Truck Friday - July 19\, 2024
DESCRIPTION:Food Truck Friday – July 19\, 2024\n5:30pm to 8pm\nAt the Callonwood Park (1801 Hammond Drive)
URL:https://www.callonwood.com/event/food-truck-friday-july-19-2024/
LOCATION:Callonwood Park
CATEGORIES:Callonwood Events
ATTACH;FMTTYPE=image/jpeg:https://www.callonwood.com/wp-content/uploads/2024-foodtruck-fridays.jpg
END:VEVENT
BEGIN:VEVENT
DTSTART;TZID=America/New_York:20240710T180000
DTEND;TZID=America/New_York:20240710T200000
DTSTAMP:20260420T030655
CREATED:20240601T201809Z
LAST-MODIFIED:20240601T201809Z
UID:991-1720634400-1720641600@www.callonwood.com
SUMMARY:Callonwood Foam Party -- July 10\, 2024
DESCRIPTION:Come join in our Foam Party!\nWednesday\, July 10\, 2024 \n6-8pm Pizza\n7-8pm Foam!
URL:https://www.callonwood.com/event/callonwood-foam-party-july-10-2024/
LOCATION:Callonwood Clubhouse
CATEGORIES:Callonwood Events
ATTACH;FMTTYPE=image/png:https://www.callonwood.com/wp-content/uploads/Foam-Party.png
END:VEVENT
BEGIN:VEVENT
DTSTART;TZID=America/New_York:20240704T101500
DTEND;TZID=America/New_York:20240704T120000
DTSTAMP:20260420T030655
CREATED:20240601T201612Z
LAST-MODIFIED:20240701T224340Z
UID:988-1720088100-1720094400@www.callonwood.com
SUMMARY:Callonwood 4th of July Parade -- July 4\, 2024
DESCRIPTION:FOURTH OF JULY PARADE UPDATE\nDue to the forecasted heat index of 102 on Thursday\, we have changed the time of the parade slightly. \nLine up will start at 10:15 am – Parade will begin at 10:30 am \nPopsicles will be immediately after the parade.\nIf your family wants to participate — please send an email to Social@callonwood.com ASAP! \n\nJoin us for Callonwood’s Third Annual\n4th of July Parade \nTuesday\, July 4\, 2024\n@ the Greenspace at Aringill & Revelwood \nParade starts at 11am\nLine-up starts at 10:30am \nPlan to participate?\nPlease RSVP to social@callonwood.com with number and ages of children participating. \nOpen to anything with wheels but no motor (i.e. no cars\, motorcycles\, go karts\, ATVs\, etc).
URL:https://www.callonwood.com/event/parade-july-2024/
LOCATION:Aringill Greenspace
CATEGORIES:Callonwood Events
ATTACH;FMTTYPE=image/png:https://www.callonwood.com/wp-content/uploads/Callonwoood.png
END:VEVENT
BEGIN:VEVENT
DTSTART;TZID=America/New_York:20240623T100000
DTEND;TZID=America/New_York:20240623T170000
DTSTAMP:20260420T030655
CREATED:20240625T001824Z
LAST-MODIFIED:20240625T001824Z
UID:1017-1719136800-1719162000@www.callonwood.com
SUMMARY:Private Event – June 23\, 2024
DESCRIPTION:Clubhouse Rental – Private Event\nJune 23\, 2024\n10am – 5pm
URL:https://www.callonwood.com/event/private-event-june-23-2024/
LOCATION:Callonwood Clubhouse
CATEGORIES:Callonwood Events
ATTACH;FMTTYPE=image/gif:https://www.callonwood.com/wp-content/uploads/private-event.gif
END:VEVENT
BEGIN:VEVENT
DTSTART;TZID=America/New_York:20240621T173000
DTEND;TZID=America/New_York:20240621T200000
DTSTAMP:20260420T030655
CREATED:20240201T230615Z
LAST-MODIFIED:20240201T230615Z
UID:888-1718991000-1719000000@www.callonwood.com
SUMMARY:Food Truck Friday - June 21\, 2024
DESCRIPTION:Food Truck Friday – June 21\, 2024\n5:30pm to 8pm\nAt the Callonwood Park (1801 Hammond Drive)
URL:https://www.callonwood.com/event/food-truck-friday-june-21-2024/
LOCATION:Callonwood Park
CATEGORIES:Callonwood Events
ATTACH;FMTTYPE=image/jpeg:https://www.callonwood.com/wp-content/uploads/2024-foodtruck-fridays.jpg
END:VEVENT
BEGIN:VEVENT
DTSTART;TZID=America/New_York:20240614T183000
DTEND;TZID=America/New_York:20240614T210000
DTSTAMP:20260420T030655
CREATED:20240601T202022Z
LAST-MODIFIED:20240601T202022Z
UID:994-1718389800-1718398800@www.callonwood.com
SUMMARY:Callonwood Pool Happy Hour -- June 14\, 2024
DESCRIPTION:Come Join Us by the Pool for Happy Hour!\n(Adults Only) \nJune 14th & August 24th\, 2024\n6:30 – 9pm @ the Pool \nNote:  Pool will close 30 minutes prior to start for anyone under the age of 18.
URL:https://www.callonwood.com/event/callonwood-pool-happy-hour-june-14-2024/
LOCATION:Callonwood Clubhouse
CATEGORIES:Callonwood Events
ATTACH;FMTTYPE=image/png:https://www.callonwood.com/wp-content/uploads/Pool-Happy-Hours.png
END:VEVENT
BEGIN:VEVENT
DTSTART;TZID=America/New_York:20240610T190000
DTEND;TZID=America/New_York:20240610T200000
DTSTAMP:20260420T030655
CREATED:20230831T195405Z
LAST-MODIFIED:20230831T195405Z
UID:804-1718046000-1718049600@www.callonwood.com
SUMMARY:Callonwood Book Club Meeting
DESCRIPTION:The Callonwood Book Club meets the second Monday of each month (September thru June) from 7pm – 8pm in the Clubhouse. \nPlease visit our FAQ page and refer to the question in the first section about the Book Club to see the dates\, times and selected book for each meeting.  Contact information for joining is also posted there.
URL:https://www.callonwood.com/event/callonwood-book-club-meeting-june2024/
LOCATION:Callonwood Clubhouse
CATEGORIES:Callonwood Events
ATTACH;FMTTYPE=image/png:https://www.callonwood.com/wp-content/uploads/Book-Club-e1665602479235.png
END:VEVENT
BEGIN:VEVENT
DTSTART;TZID=America/New_York:20240608T120000
DTEND;TZID=America/New_York:20240608T150000
DTSTAMP:20260420T030655
CREATED:20240601T201126Z
LAST-MODIFIED:20240601T201126Z
UID:985-1717848000-1717858800@www.callonwood.com
SUMMARY:Callonwood Pool Party -- June 8\, 2024
DESCRIPTION:Callonwood Pool Party\nSaturday\, June 8\, 2024\n12 – 3pm @ Pool \nSchedule of Events:\n12:30pm Lunch*\n2pm Games\n3pm Ice Cream* \n*Food for first 200 people\nPlease bring your own drinks.
URL:https://www.callonwood.com/event/callonwood-pool-party-june-8-2024/
LOCATION:Callonwood Clubhouse
CATEGORIES:Callonwood Events
ATTACH;FMTTYPE=image/png:https://www.callonwood.com/wp-content/uploads/Callonwood-Pool-Party.png
END:VEVENT
BEGIN:VEVENT
DTSTART;TZID=America/New_York:20240523T190000
DTEND;TZID=America/New_York:20240523T203000
DTSTAMP:20260420T030655
CREATED:20240106T175259Z
LAST-MODIFIED:20240524T012803Z
UID:865-1716490800-1716496200@www.callonwood.com
SUMMARY:Private - Closed Board Meeting - May 23 2024
DESCRIPTION:Clubhouse – Private Event\nClosed Board Meeting\nNot open for public/neighbor attendance\nMay 23\, 2024 @ 7pm
URL:https://www.callonwood.com/event/private-closed-board-meeting-may-23-2024-2/
LOCATION:Callonwood Clubhouse
CATEGORIES:Board Meetings,Callonwood Events
ATTACH;FMTTYPE=image/gif:https://www.callonwood.com/wp-content/uploads/private-event.gif
END:VEVENT
BEGIN:VEVENT
DTSTART;TZID=America/New_York:20240517T173000
DTEND;TZID=America/New_York:20240517T200000
DTSTAMP:20260420T030655
CREATED:20240201T230509Z
LAST-MODIFIED:20240418T160822Z
UID:885-1715967000-1715976000@www.callonwood.com
SUMMARY:Food Truck Friday - May 17\, 2024
DESCRIPTION:Food Truck Friday – May 17\, 2024\n5:30pm to 8pm\nAt the Callonwood Park (1801 Hammond Drive) \nFeaturing:\nHoly Moly Burgers\nKing of Fire Pizza\nThe Sweetest Thing
URL:https://www.callonwood.com/event/food-truck-friday-may-17-2024/
LOCATION:Callonwood Park
CATEGORIES:Callonwood Events
ATTACH;FMTTYPE=image/png:https://www.callonwood.com/wp-content/uploads/Food-Truck-Fridays-ARE-BACK.png
END:VEVENT
BEGIN:VEVENT
DTSTART;TZID=America/New_York:20240513T190000
DTEND;TZID=America/New_York:20240513T200000
DTSTAMP:20260420T030655
CREATED:20230831T195330Z
LAST-MODIFIED:20230831T195330Z
UID:802-1715626800-1715630400@www.callonwood.com
SUMMARY:Callonwood Book Club Meeting
DESCRIPTION:The Callonwood Book Club meets the second Monday of each month (September thru June) from 7pm – 8pm in the Clubhouse. \nPlease visit our FAQ page and refer to the question in the first section about the Book Club to see the dates\, times and selected book for each meeting.  Contact information for joining is also posted there.
URL:https://www.callonwood.com/event/callonwood-book-club-meeting-may2024/
LOCATION:Callonwood Clubhouse
CATEGORIES:Callonwood Events
ATTACH;FMTTYPE=image/png:https://www.callonwood.com/wp-content/uploads/Book-Club-e1665602479235.png
END:VEVENT
END:VCALENDAR