BEGIN:VCALENDAR
VERSION:2.0
PRODID:-//Callonwood - ECPv6.15.20//NONSGML v1.0//EN
CALSCALE:GREGORIAN
METHOD:PUBLISH
X-WR-CALNAME:Callonwood
X-ORIGINAL-URL:https://www.callonwood.com
X-WR-CALDESC:Events for Callonwood
REFRESH-INTERVAL;VALUE=DURATION:PT1H
X-Robots-Tag:noindex
X-PUBLISHED-TTL:PT1H
BEGIN:VTIMEZONE
TZID:America/New_York
BEGIN:DAYLIGHT
TZOFFSETFROM:-0500
TZOFFSETTO:-0400
TZNAME:EDT
DTSTART:20210314T070000
END:DAYLIGHT
BEGIN:STANDARD
TZOFFSETFROM:-0400
TZOFFSETTO:-0500
TZNAME:EST
DTSTART:20211107T060000
END:STANDARD
BEGIN:DAYLIGHT
TZOFFSETFROM:-0500
TZOFFSETTO:-0400
TZNAME:EDT
DTSTART:20220313T070000
END:DAYLIGHT
BEGIN:STANDARD
TZOFFSETFROM:-0400
TZOFFSETTO:-0500
TZNAME:EST
DTSTART:20221106T060000
END:STANDARD
BEGIN:DAYLIGHT
TZOFFSETFROM:-0500
TZOFFSETTO:-0400
TZNAME:EDT
DTSTART:20230312T070000
END:DAYLIGHT
BEGIN:STANDARD
TZOFFSETFROM:-0400
TZOFFSETTO:-0500
TZNAME:EST
DTSTART:20231105T060000
END:STANDARD
BEGIN:DAYLIGHT
TZOFFSETFROM:-0500
TZOFFSETTO:-0400
TZNAME:EDT
DTSTART:20240310T070000
END:DAYLIGHT
BEGIN:STANDARD
TZOFFSETFROM:-0400
TZOFFSETTO:-0500
TZNAME:EST
DTSTART:20241103T060000
END:STANDARD
END:VTIMEZONE
BEGIN:VEVENT
DTSTART;TZID=America/New_York:20230519T170000
DTEND;TZID=America/New_York:20230519T200000
DTSTAMP:20260420T033215
CREATED:20230108T141248Z
LAST-MODIFIED:20230512T211105Z
UID:606-1684515600-1684526400@www.callonwood.com
SUMMARY:Food Truck Fridays at the Park - May 19 2023
DESCRIPTION:Food Truck Fridays at the Park\nMay 19 2023\n5 – 8 pm
URL:https://www.callonwood.com/event/food-truck-fridays-at-the-park-may-19-2023/
LOCATION:Callonwood Park
CATEGORIES:Callonwood Events
ATTACH;FMTTYPE=image/png:https://www.callonwood.com/wp-content/uploads/2023-may-foodtruck.png
END:VEVENT
BEGIN:VEVENT
DTSTART;TZID=America/New_York:20230508T190000
DTEND;TZID=America/New_York:20230508T203000
DTSTAMP:20260420T033215
CREATED:20221012T192852Z
LAST-MODIFIED:20221012T192922Z
UID:538-1683572400-1683577800@www.callonwood.com
SUMMARY:Callonwood Book Club
DESCRIPTION:The Callonwood Book Club meets the second Monday of each month (September thru June) at 7PM in the Clubhouse. \nNew members are always welcome. For more information please contact Barbara Koehler  (justbknc@yahoo.com). \nThe following is the list for our upcoming season.\nClick here to download the 2022-2023 reading list (PDF)
URL:https://www.callonwood.com/event/callonwood-book-club-7/
CATEGORIES:Callonwood Events
ATTACH;FMTTYPE=image/png:https://www.callonwood.com/wp-content/uploads/Book-Club-e1665602479235.png
END:VEVENT
BEGIN:VEVENT
DTSTART;TZID=America/New_York:20230505T183000
DTEND;TZID=America/New_York:20230505T220000
DTSTAMP:20260420T033215
CREATED:20230414T152211Z
LAST-MODIFIED:20230414T152850Z
UID:706-1683311400-1683324000@www.callonwood.com
SUMMARY:Adults Only - Callonwood Cinco de Mayo - May 5 2023
DESCRIPTION:Adults Only
URL:https://www.callonwood.com/event/callonwood-cinco-de-mayo-may-5-2023/
LOCATION:Callonwood Clubhouse
CATEGORIES:Callonwood Events
ATTACH;FMTTYPE=image/png:https://www.callonwood.com/wp-content/uploads/may-05-2023.png
END:VEVENT
BEGIN:VEVENT
DTSTART;TZID=America/New_York:20230426T183000
DTEND;TZID=America/New_York:20230426T200000
DTSTAMP:20260420T033215
CREATED:20230102T013025Z
LAST-MODIFIED:20230102T013223Z
UID:591-1682533800-1682539200@www.callonwood.com
SUMMARY:Townhome Quarterly Board Meeting - April 26 2023
DESCRIPTION:Townhome Quarterly Board Meeting\nApril 26\, 2023\n6:30pm
URL:https://www.callonwood.com/event/townhome-quarterly-board-meeting-april-26-2023/
LOCATION:Callonwood Clubhouse
CATEGORIES:Callonwood Events
END:VEVENT
BEGIN:VEVENT
DTSTART;TZID=America/New_York:20230422T080000
DTEND;TZID=America/New_York:20230422T130000
DTSTAMP:20260420T033215
CREATED:20230405T191750Z
LAST-MODIFIED:20230405T191801Z
UID:696-1682150400-1682168400@www.callonwood.com
SUMMARY:Neighborhood Garage Sale - April 22\, 2023
DESCRIPTION:
URL:https://www.callonwood.com/event/neighborhood-garage-sale/
CATEGORIES:Callonwood Events
ATTACH;FMTTYPE=image/png:https://www.callonwood.com/wp-content/uploads/April-22-2023.png
END:VEVENT
BEGIN:VEVENT
DTSTART;TZID=America/New_York:20230410T190000
DTEND;TZID=America/New_York:20230410T203000
DTSTAMP:20260420T033215
CREATED:20221012T192813Z
LAST-MODIFIED:20221012T192828Z
UID:536-1681153200-1681158600@www.callonwood.com
SUMMARY:Callonwood Book Club
DESCRIPTION:The Callonwood Book Club meets the second Monday of each month (September thru June) at 7PM in the Clubhouse. \nNew members are always welcome. For more information please contact Barbara Koehler  (justbknc@yahoo.com). \nThe following is the list for our upcoming season.\nClick here to download the 2022-2023 reading list (PDF)
URL:https://www.callonwood.com/event/callonwood-book-club-6/
CATEGORIES:Callonwood Events
ATTACH;FMTTYPE=image/png:https://www.callonwood.com/wp-content/uploads/Book-Club-e1665602479235.png
END:VEVENT
BEGIN:VEVENT
DTSTART;TZID=America/New_York:20230326T150000
DTEND;TZID=America/New_York:20230326T180000
DTSTAMP:20260420T033215
CREATED:20230108T140959Z
LAST-MODIFIED:20230323T195129Z
UID:602-1679842800-1679853600@www.callonwood.com
SUMMARY:Spring Fling on Clubhouse Lawn - March 26 2023
DESCRIPTION:Spring Fling on Clubhouse Lawn\nMarch 26\, 2023\n3:00 pm \n\nEaster Bunny Visit\nEgg Hunt\nKid Train Rides\nCookies & Juice\nGolden Egg Prizes\n\nPlease note if your child plans to participate please drop off either 1 dozen plastic eggs or 1 bag of candy/toys ( please put the child’s name on the item).  Drop off to 1650 Hammond Drive by March 20th! 
URL:https://www.callonwood.com/event/spring-fling-2023/
LOCATION:Callonwood Clubhouse
CATEGORIES:Callonwood Events
END:VEVENT
BEGIN:VEVENT
DTSTART;TZID=America/New_York:20230323T183000
DTEND;TZID=America/New_York:20230323T200000
DTSTAMP:20260420T033215
CREATED:20230311T154812Z
LAST-MODIFIED:20230311T160241Z
UID:666-1679596200-1679601600@www.callonwood.com
SUMMARY:HOA Open Board Meeting - March 23 2023
DESCRIPTION:HOA OPEN MEETING NOTICE \nThere will be an open board meetingThursday\, March 23\, 2023 to begin at 6:30 pm. This will be held at the Callonwood Clubhouse\, located at 1001 Sarandon Drive in Stallings\, NC 28104. \nPlease tell your neighbors and friends in the community. \nThe board would like to discuss upcoming projects and happenings that will be affecting the community. \nLooking forward to seeing everyone at the meeting!! \nSincerely\,\nCallonwood Board of Directors.
URL:https://www.callonwood.com/event/hoa-march-23-2023/
LOCATION:Callonwood Clubhouse
CATEGORIES:Callonwood Events
ATTACH;FMTTYPE=image/jpeg:https://www.callonwood.com/wp-content/uploads/2022/07/meeting.jpg
END:VEVENT
BEGIN:VEVENT
DTSTART;TZID=America/New_York:20230313T190000
DTEND;TZID=America/New_York:20230313T203000
DTSTAMP:20260420T033215
CREATED:20221012T192649Z
LAST-MODIFIED:20221012T192720Z
UID:534-1678734000-1678739400@www.callonwood.com
SUMMARY:Callonwood Book Club
DESCRIPTION:The Callonwood Book Club meets the second Monday of each month (September thru June) at 7PM in the Clubhouse. \nNew members are always welcome. For more information please contact Barbara Koehler  (justbknc@yahoo.com). \nThe following is the list for our upcoming season.\nClick here to download the 2022-2023 reading list (PDF)
URL:https://www.callonwood.com/event/callonwood-book-club-5/
CATEGORIES:Callonwood Events
ATTACH;FMTTYPE=image/png:https://www.callonwood.com/wp-content/uploads/Book-Club-e1665602479235.png
END:VEVENT
BEGIN:VEVENT
DTSTART;TZID=America/New_York:20230311T120000
DTEND;TZID=America/New_York:20230311T180000
DTSTAMP:20260420T033215
CREATED:20221219T211045Z
LAST-MODIFIED:20230305T162039Z
UID:582-1678536000-1678557600@www.callonwood.com
SUMMARY:Private Event - March 11 2023
DESCRIPTION:Clubhouse Rental – Private Event\nMarch 11\, 2023\n12pm – 6pm
URL:https://www.callonwood.com/event/private-event-march-11-2023/
LOCATION:Callonwood Clubhouse
CATEGORIES:Callonwood Events
END:VEVENT
BEGIN:VEVENT
DTSTART;TZID=America/New_York:20230218T183000
DTEND;TZID=America/New_York:20230218T213000
DTSTAMP:20260420T033215
CREATED:20230108T140848Z
LAST-MODIFIED:20230203T221919Z
UID:600-1676745000-1676755800@www.callonwood.com
SUMMARY:Adult Wine Night - Feb 18 2023
DESCRIPTION:Adult Wine Night at the Clubhouse\nFebruary 18\, 2023\n6:30 – 9:30 pm
URL:https://www.callonwood.com/event/adult-wine-night-feb-18-2023/
LOCATION:Callonwood Clubhouse
CATEGORIES:Callonwood Events
ATTACH;FMTTYPE=image/png:https://www.callonwood.com/wp-content/uploads/2023feb-winenight.png
END:VEVENT
BEGIN:VEVENT
DTSTART;TZID=America/New_York:20230213T190000
DTEND;TZID=America/New_York:20230213T203000
DTSTAMP:20260420T033215
CREATED:20221012T192608Z
LAST-MODIFIED:20221012T192622Z
UID:532-1676314800-1676320200@www.callonwood.com
SUMMARY:Callonwood Book Club
DESCRIPTION:The Callonwood Book Club meets the second Monday of each month (September thru June) at 7PM in the Clubhouse. \nNew members are always welcome. For more information please contact Barbara Koehler  (justbknc@yahoo.com). \nThe following is the list for our upcoming season.\nClick here to download the 2022-2023 reading list (PDF)
URL:https://www.callonwood.com/event/callonwood-book-club-4/
CATEGORIES:Callonwood Events
ATTACH;FMTTYPE=image/png:https://www.callonwood.com/wp-content/uploads/Book-Club-e1665602479235.png
END:VEVENT
BEGIN:VEVENT
DTSTART;TZID=America/New_York:20230128T120000
DTEND;TZID=America/New_York:20230128T210000
DTSTAMP:20260420T033215
CREATED:20221219T210936Z
LAST-MODIFIED:20221219T210936Z
UID:580-1674907200-1674939600@www.callonwood.com
SUMMARY:Private Event - Jan 28 2023
DESCRIPTION:Clubhouse Rental – Private Event\nJanuary 28\, 2023\n12pm – 9pm
URL:https://www.callonwood.com/event/private-event-jan-28-2023/
LOCATION:Callonwood Clubhouse
CATEGORIES:Callonwood Events
END:VEVENT
BEGIN:VEVENT
DTSTART;TZID=America/New_York:20230125T183000
DTEND;TZID=America/New_York:20230125T200000
DTSTAMP:20260420T033215
CREATED:20230102T012936Z
LAST-MODIFIED:20230102T013232Z
UID:589-1674671400-1674676800@www.callonwood.com
SUMMARY:Townhome Quarterly Board Meeting - Jan 25 2023
DESCRIPTION:Townhome Quarterly Board Meeting\nJanuary 25\, 2023\n6:30pm
URL:https://www.callonwood.com/event/townhome-quarterly-board-meeting-jan-25-2023/
LOCATION:Callonwood Clubhouse
CATEGORIES:Callonwood Events
END:VEVENT
BEGIN:VEVENT
DTSTART;TZID=America/New_York:20230109T190000
DTEND;TZID=America/New_York:20230109T203000
DTSTAMP:20260420T033215
CREATED:20221012T192437Z
LAST-MODIFIED:20221012T192458Z
UID:530-1673290800-1673296200@www.callonwood.com
SUMMARY:Callonwood Book Club
DESCRIPTION:The Callonwood Book Club meets the second Monday of each month (September thru June) at 7PM in the Clubhouse. \nNew members are always welcome. For more information please contact Barbara Koehler  (justbknc@yahoo.com). \nThe following is the list for our upcoming season.\nClick here to download the 2022-2023 reading list (PDF)
URL:https://www.callonwood.com/event/callonwood-book-club-3/
CATEGORIES:Callonwood Events
ATTACH;FMTTYPE=image/png:https://www.callonwood.com/wp-content/uploads/Book-Club-e1665602479235.png
END:VEVENT
BEGIN:VEVENT
DTSTART;TZID=America/New_York:20230108T120000
DTEND;TZID=America/New_York:20230108T213000
DTSTAMP:20260420T033215
CREATED:20221219T210751Z
LAST-MODIFIED:20221219T210751Z
UID:576-1673179200-1673213400@www.callonwood.com
SUMMARY:Private Event - Jan 8 2023
DESCRIPTION:Clubhouse Rental – Private Event\nJanuary 8\, 2023\n12pm – 9pm
URL:https://www.callonwood.com/event/private-event-jan-8-2023/
LOCATION:Callonwood Clubhouse
CATEGORIES:Callonwood Events
END:VEVENT
BEGIN:VEVENT
DTSTART;TZID=America/New_York:20230105T190000
DTEND;TZID=America/New_York:20230105T203000
DTSTAMP:20260420T033215
CREATED:20230102T013922Z
LAST-MODIFIED:20230102T013922Z
UID:597-1672945200-1672950600@www.callonwood.com
SUMMARY:Callonwood Annual Meeting - Jan 5 2023
DESCRIPTION:Callonwood Annual Meeting\nLocation:  Clubhouse\nJanuary 5\, 2023\n7:00pm
URL:https://www.callonwood.com/event/callonwood-annual-meeting-jan-5-2023/
LOCATION:Callonwood Clubhouse
CATEGORIES:Callonwood Events
END:VEVENT
BEGIN:VEVENT
DTSTART;TZID=America/New_York:20221217T100000
DTEND;TZID=America/New_York:20221217T120000
DTSTAMP:20260420T033215
CREATED:20220718T152824Z
LAST-MODIFIED:20221214T192608Z
UID:47-1671271200-1671278400@www.callonwood.com
SUMMARY:Cookies with Santa at Clubhouse
DESCRIPTION:Saturday\, December 17thTime:  10am-12pm at the Clubhouse \nWe will have donuts\, hot chocolate and coloring books for the kids! \n\nCookies & Hot Cocoa available\nKids coloring books\nVisits with Santa
URL:https://www.callonwood.com/event/cookies-with-santa-at-clubhouse/
LOCATION:Callonwood Clubhouse
CATEGORIES:Callonwood Events
ATTACH;FMTTYPE=image/jpeg:https://www.callonwood.com/wp-content/uploads/2022/07/cookies-santa-e1658158241166.jpg
END:VEVENT
BEGIN:VEVENT
DTSTART;TZID=America/New_York:20221212T190000
DTEND;TZID=America/New_York:20221212T203000
DTSTAMP:20260420T033215
CREATED:20221012T192230Z
LAST-MODIFIED:20221012T192328Z
UID:528-1670871600-1670877000@www.callonwood.com
SUMMARY:Callonwood Book Club
DESCRIPTION:The Callonwood Book Club meets the second Monday of each month (September thru June) at 7PM in the Clubhouse. \nNew members are always welcome. For more information please contact Barbara Koehler  (justbknc@yahoo.com). \nThe following is the list for our upcoming season.\nClick here to download the 2022-2023 reading list (PDF)
URL:https://www.callonwood.com/event/callonwood-book-club-2/
CATEGORIES:Callonwood Events
ATTACH;FMTTYPE=image/png:https://www.callonwood.com/wp-content/uploads/Book-Club-e1665602479235.png
END:VEVENT
BEGIN:VEVENT
DTSTART;TZID=America/New_York:20221207T183000
DTEND;TZID=America/New_York:20221207T203000
DTSTAMP:20260420T033215
CREATED:20221115T001624Z
LAST-MODIFIED:20221115T001741Z
UID:564-1670437800-1670445000@www.callonwood.com
SUMMARY:Townhomes Annual Board Meeting
DESCRIPTION:The Townhomes BOD will meet at 6:30pm in the Callonwood Clubhouse. \nPlease contact callonwoodth.carolinas@fsresidential.com if you have any questions.
URL:https://www.callonwood.com/event/townhomes-quarterly-board-meeting-annual-meeting/
CATEGORIES:Callonwood Events
ATTACH;FMTTYPE=image/jpeg:https://www.callonwood.com/wp-content/uploads/2022/07/meeting.jpg
END:VEVENT
BEGIN:VEVENT
DTSTART;TZID=America/New_York:20221201T190000
DTEND;TZID=America/New_York:20221201T210000
DTSTAMP:20260420T033215
CREATED:20220804T152458Z
LAST-MODIFIED:20221115T001819Z
UID:189-1669921200-1669928400@www.callonwood.com
SUMMARY:HOA Quarterly Public Board Meeting
DESCRIPTION:UPDATE:  This meeting has been moved from the originally scheduled date of November 17 to December 1. \nThe board is urging our residents to attend the Open Board Meeting.  We will be providing information on several very important items.  Among them are: a potential change in management; budget changes; the status of the budget and the reserve fund; a significant increase in dues; and an update on elections. \n\nThe Homeowners Association BOD meets on the third Thursday of each quarter at 7pm in the Callonwood Clubhouse\, subject to change. \nAll residents are urged to attend. Residents who have a concern and wish to speak at the meeting must be placed on the agenda by contacting Cedar Management.
URL:https://www.callonwood.com/event/quarterly-public-board-meeting-2/
CATEGORIES:Callonwood Events
ATTACH;FMTTYPE=image/jpeg:https://www.callonwood.com/wp-content/uploads/2022/07/meeting.jpg
END:VEVENT
BEGIN:VEVENT
DTSTART;TZID=America/New_York:20221114T070000
DTEND;TZID=America/New_York:20221114T203000
DTSTAMP:20260420T033215
CREATED:20221012T191518Z
LAST-MODIFIED:20221012T192131Z
UID:523-1668409200-1668457800@www.callonwood.com
SUMMARY:Callonwood Book Club
DESCRIPTION:The Callonwood Book Club meets the second Monday of each month (September thru June) at 7PM in the Clubhouse. \nNew members are always welcome. For more information please contact Barbara Koehler  (justbknc@yahoo.com). \nThe following is the list for our upcoming season.\nClick here to download the 2022-2023 reading list (PDF)
URL:https://www.callonwood.com/event/callonwood-book-club/
CATEGORIES:Callonwood Events
ATTACH;FMTTYPE=image/png:https://www.callonwood.com/wp-content/uploads/Book-Club-e1665602479235.png
END:VEVENT
BEGIN:VEVENT
DTSTART;TZID=America/New_York:20221026T183000
DTEND;TZID=America/New_York:20221026T203000
DTSTAMP:20260420T033215
CREATED:20220804T152017Z
LAST-MODIFIED:20220804T152050Z
UID:186-1666809000-1666816200@www.callonwood.com
SUMMARY:Townhomes Quarterly Board Meeting - Annual Meeting
DESCRIPTION:The Townhome BOD meets on the fourth Wednesday of every quarter at 6:30pm in the Callonwood Clubhouse. \nPlease contact callonwoodth.carolinas@fsresidential.com if you have any questions.
URL:https://www.callonwood.com/event/townhomes-quarterly-board-meeting/
CATEGORIES:Callonwood Events
ATTACH;FMTTYPE=image/jpeg:https://www.callonwood.com/wp-content/uploads/2022/07/meeting.jpg
END:VEVENT
BEGIN:VEVENT
DTSTART;TZID=America/New_York:20221021T170000
DTEND;TZID=America/New_York:20221021T200000
DTSTAMP:20260420T033215
CREATED:20221021T143600Z
LAST-MODIFIED:20221021T143627Z
UID:556-1666371600-1666382400@www.callonwood.com
SUMMARY:Food Truck Friday - Last until spring
DESCRIPTION:October 21\, 2022 — 5pm to 8pm at the Callonwood Park. \nFeaturing:  Chips N’ Dips Food Truck is confirmed and we are working on a second truck now. \nBring your chairs\, picnic blankets\, coolers and more for a fun evening with neighbors!
URL:https://www.callonwood.com/event/food-truck-friday-last-until-spring/
CATEGORIES:Callonwood Events
ATTACH;FMTTYPE=image/png:https://www.callonwood.com/wp-content/uploads/2022/07/food-truck-e1658156665263.png
END:VEVENT
BEGIN:VEVENT
DTSTART;VALUE=DATE:20221017
DTEND;VALUE=DATE:20221020
DTSTAMP:20260420T033215
CREATED:20221013T130726Z
LAST-MODIFIED:20221013T130900Z
UID:552-1665964800-1666223999@www.callonwood.com
SUMMARY:Callonwood Tree Trimming
DESCRIPTION:Brother’s Tree Service will be in the neighborhood starting Monday 10/17/2022 through Wednesday 10/19/2022. They will be trimming all HOA trees along Callonwood Drive\, the 1000 block of Hammond Drive\, the 1000 block of Sarandon Drive\, and all Stonedown Lane. \nDO NOT PARK ON CALLONWOOD DRIVE\, HAMMOND DRIVE\, SARANDON DRIVE\, OR STONEDOWN LANE FROM 10/16/2022 -10/20/2022. Neither Brothers’ Tree Service nor Callonwood HOA is responsible for any damage to vehicles parked in these areas on those dates. \nOver the past few months\, many of our neighbors have brought complaints and concerns regarding tree branches overhanging the sidewalks. Please note that tree branches are to be kept between 8 and 10 feet above the sidewalk and 12 feet above the road if they overhang the streets. The HOA has contracted Brothers Tree Service to address the trees on all common areas. We are asking all our neighbors to please trim your street trees to these levels. Any properties not in compliance will begin receiving notices in early Spring. \nWhile in the neighborhood\, Brothers Tree Service will be offering a reduced per tree rate if contacted by any Callonwood Residents. Callonwood residents can have their street trees trimmed to the proper elevations for the special rate of $140 per tree. This offer will no longer be available once the Callonwood common areas have been completed.   Brother’s Tree Service is a small locally owned business. Omar and Uriel not only own and operate Brother’s Tree Service\, but they are also on site working alongside their crew.  To set this service up\, they have requested that you please text Uriel at (704) 207-9238. Leave your name\, phone number and address\, and indicate that you are a Callonwood Resident. Uriel will get back to you to set up your tree service. Please do not call\, as they can get inundated with calls while on site working. \nBrother’s Tree Service will begin on 10/17/22. They will start with the trees at the entrance and around the pool. They will be here from 10/17/22 – 10/19/22.
URL:https://www.callonwood.com/event/callonwood-tree/
CATEGORIES:Callonwood Events,projects/notices/alerts
END:VEVENT
BEGIN:VEVENT
DTSTART;TZID=America/New_York:20221013T193000
DTEND;TZID=America/New_York:20221013T203000
DTSTAMP:20260420T033215
CREATED:20221012T195846Z
LAST-MODIFIED:20221012T200034Z
UID:547-1665689400-1665693000@www.callonwood.com
SUMMARY:Callonwood Bunco Club
DESCRIPTION:Meets the 2nd Thursday of the month at 7:30pm. \nsuzscharf17@gmail.com \n 
URL:https://www.callonwood.com/event/callonwood-bunco-club/
CATEGORIES:Callonwood Events
ATTACH;FMTTYPE=image/png:https://www.callonwood.com/wp-content/uploads/Bunco-e1665604757297.png
END:VEVENT
BEGIN:VEVENT
DTSTART;TZID=America/New_York:20220924T113000
DTEND;TZID=America/New_York:20220924T133000
DTSTAMP:20260420T033215
CREATED:20220910T140907Z
LAST-MODIFIED:20220910T141028Z
UID:438-1664019000-1664026200@www.callonwood.com
SUMMARY:Callonwood Chili Cook-Off -- September 24\, 2022
DESCRIPTION:Callonwood Chili Cook-Off — September 24\, 2022.  11:30am @ the Clubhouse. \nRequirement: Must live in Callonwood. \nRules: One entry per home\, must be homemade\, can be chili or a stew. \nPrizes will be awarded \nThe enter\, send an email to social@callonwood.com to receive the registration link for entries.  Deadline for entries is September 20\, 2022
URL:https://www.callonwood.com/event/callonwood-chili-cook-off-september-24-2022/
LOCATION:Callonwood Clubhouse
CATEGORIES:Callonwood Events
ATTACH;FMTTYPE=image/png:https://www.callonwood.com/wp-content/uploads/2022-sept-24-chili.png
END:VEVENT
BEGIN:VEVENT
DTSTART;TZID=America/New_York:20220916T170000
DTEND;TZID=America/New_York:20220916T200000
DTSTAMP:20260420T033215
CREATED:20220830T011113Z
LAST-MODIFIED:20220830T011443Z
UID:425-1663347600-1663358400@www.callonwood.com
SUMMARY:Food Truck Friday - September 16\, 2022
DESCRIPTION:Food Truck Friday \nSeptember 16\, 2022 — 5pm to 8pm at the Callonwood Park. \nFeaturing:  “International Truck of Tacos” and “Wrap ‘N’ Roll.” \nBring your chairs\, picnic blankets\, coolers and more for a fun evening with neighbors!  One lucky family will have their order paid for!
URL:https://www.callonwood.com/event/food-truck-friday-september-16-2022/
LOCATION:Callonwood Park
CATEGORIES:Callonwood Events
ATTACH;FMTTYPE=image/png:https://www.callonwood.com/wp-content/uploads/foodtruck-sept2022.png
END:VEVENT
BEGIN:VEVENT
DTSTART;TZID=America/New_York:20220824T183000
DTEND;TZID=America/New_York:20220824T200000
DTSTAMP:20260420T033215
CREATED:20220720T212935Z
LAST-MODIFIED:20220822T231540Z
UID:137-1661365800-1661371200@www.callonwood.com
SUMMARY:Quarterly Public Board Meeting
DESCRIPTION:Note:  The meeting this quarter is on Wednesday\, August 24th\, not Thursday\, August 25th.  There are yard signs in the neighborhood that say Thursday but for this meeting it’s on Wednesday at 6:30pm. \nThe Homeowners Association BOD meets on the third Thursday of each quarter at 7pm in the Callonwood Clubhouse\, subject to change. \nAll residents are urged to attend. Residents who have a concern and wish to speak at the meeting must be placed on the agenda by contacting Cedar Management.
URL:https://www.callonwood.com/event/quarterly-public-board-meeting/
CATEGORIES:Callonwood Events
ATTACH;FMTTYPE=image/jpeg:https://www.callonwood.com/wp-content/uploads/2022/07/meeting.jpg
END:VEVENT
BEGIN:VEVENT
DTSTART;TZID=America/New_York:20220819T170000
DTEND;TZID=America/New_York:20220819T200000
DTSTAMP:20260420T033215
CREATED:20220718T145614Z
LAST-MODIFIED:20220727T173331Z
UID:36-1660928400-1660939200@www.callonwood.com
SUMMARY:Callonwood Summer Bash
DESCRIPTION:Come join in the fun of Food Trucks\, Lawn Games\, and a MOVIE!\nFood Trucks – Tru Grits & That Won Truck from 5-8 pm\nKing of Pops will be at the Summer Bash! They will be selling fun flavored popsicles from 6-8 pm\nLawn Games from 6-8 pm\nMOANA Movie starts at 8:30 pm\nPopcorn and Candy will be available for the first 100 people.\nSo bring your blanket\, lawn chairs\, coolers\, and kids for a fun night with neighbors!
URL:https://www.callonwood.com/event/food-truck-friday-at-the-callonwood-park/
CATEGORIES:Callonwood Events
ATTACH;FMTTYPE=image/jpeg:https://www.callonwood.com/wp-content/uploads/2022/07/Summer-Bash-2022-e1658943196718.jpg
END:VEVENT
END:VCALENDAR