BEGIN:VCALENDAR
VERSION:2.0
PRODID:-//Callonwood - ECPv6.15.20//NONSGML v1.0//EN
CALSCALE:GREGORIAN
METHOD:PUBLISH
X-WR-CALNAME:Callonwood
X-ORIGINAL-URL:https://www.callonwood.com
X-WR-CALDESC:Events for Callonwood
REFRESH-INTERVAL;VALUE=DURATION:PT1H
X-Robots-Tag:noindex
X-PUBLISHED-TTL:PT1H
BEGIN:VTIMEZONE
TZID:America/New_York
BEGIN:DAYLIGHT
TZOFFSETFROM:-0500
TZOFFSETTO:-0400
TZNAME:EDT
DTSTART:20210314T070000
END:DAYLIGHT
BEGIN:STANDARD
TZOFFSETFROM:-0400
TZOFFSETTO:-0500
TZNAME:EST
DTSTART:20211107T060000
END:STANDARD
BEGIN:DAYLIGHT
TZOFFSETFROM:-0500
TZOFFSETTO:-0400
TZNAME:EDT
DTSTART:20220313T070000
END:DAYLIGHT
BEGIN:STANDARD
TZOFFSETFROM:-0400
TZOFFSETTO:-0500
TZNAME:EST
DTSTART:20221106T060000
END:STANDARD
BEGIN:DAYLIGHT
TZOFFSETFROM:-0500
TZOFFSETTO:-0400
TZNAME:EDT
DTSTART:20230312T070000
END:DAYLIGHT
BEGIN:STANDARD
TZOFFSETFROM:-0400
TZOFFSETTO:-0500
TZNAME:EST
DTSTART:20231105T060000
END:STANDARD
END:VTIMEZONE
BEGIN:VEVENT
DTSTART;TZID=America/New_York:20220924T113000
DTEND;TZID=America/New_York:20220924T133000
DTSTAMP:20260420T152108
CREATED:20220910T140907Z
LAST-MODIFIED:20220910T141028Z
UID:438-1664019000-1664026200@www.callonwood.com
SUMMARY:Callonwood Chili Cook-Off -- September 24\, 2022
DESCRIPTION:Callonwood Chili Cook-Off — September 24\, 2022.  11:30am @ the Clubhouse. \nRequirement: Must live in Callonwood. \nRules: One entry per home\, must be homemade\, can be chili or a stew. \nPrizes will be awarded \nThe enter\, send an email to social@callonwood.com to receive the registration link for entries.  Deadline for entries is September 20\, 2022
URL:https://www.callonwood.com/event/callonwood-chili-cook-off-september-24-2022/
LOCATION:Callonwood Clubhouse
CATEGORIES:Callonwood Events
ATTACH;FMTTYPE=image/png:https://www.callonwood.com/wp-content/uploads/2022-sept-24-chili.png
END:VEVENT
BEGIN:VEVENT
DTSTART;TZID=America/New_York:20220916T170000
DTEND;TZID=America/New_York:20220916T200000
DTSTAMP:20260420T152108
CREATED:20220830T011113Z
LAST-MODIFIED:20220830T011443Z
UID:425-1663347600-1663358400@www.callonwood.com
SUMMARY:Food Truck Friday - September 16\, 2022
DESCRIPTION:Food Truck Friday \nSeptember 16\, 2022 — 5pm to 8pm at the Callonwood Park. \nFeaturing:  “International Truck of Tacos” and “Wrap ‘N’ Roll.” \nBring your chairs\, picnic blankets\, coolers and more for a fun evening with neighbors!  One lucky family will have their order paid for!
URL:https://www.callonwood.com/event/food-truck-friday-september-16-2022/
LOCATION:Callonwood Park
CATEGORIES:Callonwood Events
ATTACH;FMTTYPE=image/png:https://www.callonwood.com/wp-content/uploads/foodtruck-sept2022.png
END:VEVENT
BEGIN:VEVENT
DTSTART;TZID=America/New_York:20220824T183000
DTEND;TZID=America/New_York:20220824T200000
DTSTAMP:20260420T152108
CREATED:20220720T212935Z
LAST-MODIFIED:20220822T231540Z
UID:137-1661365800-1661371200@www.callonwood.com
SUMMARY:Quarterly Public Board Meeting
DESCRIPTION:Note:  The meeting this quarter is on Wednesday\, August 24th\, not Thursday\, August 25th.  There are yard signs in the neighborhood that say Thursday but for this meeting it’s on Wednesday at 6:30pm. \nThe Homeowners Association BOD meets on the third Thursday of each quarter at 7pm in the Callonwood Clubhouse\, subject to change. \nAll residents are urged to attend. Residents who have a concern and wish to speak at the meeting must be placed on the agenda by contacting Cedar Management.
URL:https://www.callonwood.com/event/quarterly-public-board-meeting/
CATEGORIES:Callonwood Events
ATTACH;FMTTYPE=image/jpeg:https://www.callonwood.com/wp-content/uploads/2022/07/meeting.jpg
END:VEVENT
BEGIN:VEVENT
DTSTART;TZID=America/New_York:20220819T170000
DTEND;TZID=America/New_York:20220819T200000
DTSTAMP:20260420T152108
CREATED:20220718T145614Z
LAST-MODIFIED:20220727T173331Z
UID:36-1660928400-1660939200@www.callonwood.com
SUMMARY:Callonwood Summer Bash
DESCRIPTION:Come join in the fun of Food Trucks\, Lawn Games\, and a MOVIE!\nFood Trucks – Tru Grits & That Won Truck from 5-8 pm\nKing of Pops will be at the Summer Bash! They will be selling fun flavored popsicles from 6-8 pm\nLawn Games from 6-8 pm\nMOANA Movie starts at 8:30 pm\nPopcorn and Candy will be available for the first 100 people.\nSo bring your blanket\, lawn chairs\, coolers\, and kids for a fun night with neighbors!
URL:https://www.callonwood.com/event/food-truck-friday-at-the-callonwood-park/
CATEGORIES:Callonwood Events
ATTACH;FMTTYPE=image/jpeg:https://www.callonwood.com/wp-content/uploads/2022/07/Summer-Bash-2022-e1658943196718.jpg
END:VEVENT
BEGIN:VEVENT
DTSTART;TZID=America/New_York:20220727T183000
DTEND;TZID=America/New_York:20220727T203000
DTSTAMP:20260420T152108
CREATED:20220720T212701Z
LAST-MODIFIED:20220804T152143Z
UID:135-1658946600-1658953800@www.callonwood.com
SUMMARY:Townhomes Quarterly Board Meeting
DESCRIPTION:The Townhome BOD meets on the fourth Wednesday of every quarter at 6:30pm in the Callonwood Clubhouse. \nPlease contact callonwoodth.carolinas@fsresidential.com if you have any questions.
URL:https://www.callonwood.com/event/townhomes-board-meeting/
CATEGORIES:Callonwood Events
ATTACH;FMTTYPE=image/jpeg:https://www.callonwood.com/wp-content/uploads/2022/07/meeting.jpg
END:VEVENT
BEGIN:VEVENT
DTSTART;VALUE=DATE:20220101
DTEND;VALUE=DATE:20220102
DTSTAMP:20260420T152108
CREATED:20220715T182726Z
LAST-MODIFIED:20220721T181903Z
UID:97-1640995200-1641081599@www.callonwood.com
SUMMARY:Prior 2022 Social Events
DESCRIPTION:February 19th — Sip & Dip (Adults Only)  6:30 – 8:30 pm (RSVP required)\n\nBring a bottle of wine to share\n\n\nApril 9th – Spring Fling  – 3:00 – 4:30 pm \n\nEach child will be asked to provide either 1 dozen plastic eggs or a bag of candy/prizes for the Easter Egg hunt\nCookies & Juice Boxes provided\nEaster Bunny photo opportunities\n\n\nMay 13th – Card Night at Clubhouse (Adults Only) 6:30 – 9:30 pm (RSVP required) \nMay 20th – Food Truck Friday at the Park  5 – 8 pm\n\nMay 28th – Pool Opening Party 11:00 am \n\nHot dog plates free for first 100\, $5 per person otherwise\nCorn Hole tournament\nYard games for kids\nIce cream truck later in the day\n\n\nJune 17th – Food Truck Friday at the Park  5 – 8 pm \nJuly 2nd – July Bike Parade\, Time TBD \n\nDecorate your bike\, stroller\, wagon\, motorized toy car\, etc and come celebrate\nPrizes given\nPopsicles for those participating after the parade\n\n\nJuly 15th — Food Truck Friday at the Park  5 – 8 pm
URL:https://www.callonwood.com/event/prior-2022-social-events/
CATEGORIES:Callonwood Events
END:VEVENT
END:VCALENDAR