BEGIN:VCALENDAR
VERSION:2.0
PRODID:-//Callonwood - ECPv6.15.20//NONSGML v1.0//EN
CALSCALE:GREGORIAN
METHOD:PUBLISH
X-WR-CALNAME:Callonwood
X-ORIGINAL-URL:https://www.callonwood.com
X-WR-CALDESC:Events for Callonwood
REFRESH-INTERVAL;VALUE=DURATION:PT1H
X-Robots-Tag:noindex
X-PUBLISHED-TTL:PT1H
BEGIN:VTIMEZONE
TZID:America/New_York
BEGIN:DAYLIGHT
TZOFFSETFROM:-0500
TZOFFSETTO:-0400
TZNAME:EDT
DTSTART:20210314T070000
END:DAYLIGHT
BEGIN:STANDARD
TZOFFSETFROM:-0400
TZOFFSETTO:-0500
TZNAME:EST
DTSTART:20211107T060000
END:STANDARD
BEGIN:DAYLIGHT
TZOFFSETFROM:-0500
TZOFFSETTO:-0400
TZNAME:EDT
DTSTART:20220313T070000
END:DAYLIGHT
BEGIN:STANDARD
TZOFFSETFROM:-0400
TZOFFSETTO:-0500
TZNAME:EST
DTSTART:20221106T060000
END:STANDARD
BEGIN:DAYLIGHT
TZOFFSETFROM:-0500
TZOFFSETTO:-0400
TZNAME:EDT
DTSTART:20230312T070000
END:DAYLIGHT
BEGIN:STANDARD
TZOFFSETFROM:-0400
TZOFFSETTO:-0500
TZNAME:EST
DTSTART:20231105T060000
END:STANDARD
END:VTIMEZONE
BEGIN:VEVENT
DTSTART;VALUE=DATE:20220101
DTEND;VALUE=DATE:20220102
DTSTAMP:20260421T022202
CREATED:20220715T182726Z
LAST-MODIFIED:20220721T181903Z
UID:97-1640995200-1641081599@www.callonwood.com
SUMMARY:Prior 2022 Social Events
DESCRIPTION:February 19th — Sip & Dip (Adults Only)  6:30 – 8:30 pm (RSVP required)\n\nBring a bottle of wine to share\n\n\nApril 9th – Spring Fling  – 3:00 – 4:30 pm \n\nEach child will be asked to provide either 1 dozen plastic eggs or a bag of candy/prizes for the Easter Egg hunt\nCookies & Juice Boxes provided\nEaster Bunny photo opportunities\n\n\nMay 13th – Card Night at Clubhouse (Adults Only) 6:30 – 9:30 pm (RSVP required) \nMay 20th – Food Truck Friday at the Park  5 – 8 pm\n\nMay 28th – Pool Opening Party 11:00 am \n\nHot dog plates free for first 100\, $5 per person otherwise\nCorn Hole tournament\nYard games for kids\nIce cream truck later in the day\n\n\nJune 17th – Food Truck Friday at the Park  5 – 8 pm \nJuly 2nd – July Bike Parade\, Time TBD \n\nDecorate your bike\, stroller\, wagon\, motorized toy car\, etc and come celebrate\nPrizes given\nPopsicles for those participating after the parade\n\n\nJuly 15th — Food Truck Friday at the Park  5 – 8 pm
URL:https://www.callonwood.com/event/prior-2022-social-events/
CATEGORIES:Callonwood Events
END:VEVENT
END:VCALENDAR