BEGIN:VCALENDAR
VERSION:2.0
PRODID:-//Callonwood - ECPv6.15.20//NONSGML v1.0//EN
CALSCALE:GREGORIAN
METHOD:PUBLISH
X-ORIGINAL-URL:https://www.callonwood.com
X-WR-CALDESC:Events for Callonwood
REFRESH-INTERVAL;VALUE=DURATION:PT1H
X-Robots-Tag:noindex
X-PUBLISHED-TTL:PT1H
BEGIN:VTIMEZONE
TZID:America/New_York
BEGIN:DAYLIGHT
TZOFFSETFROM:-0500
TZOFFSETTO:-0400
TZNAME:EDT
DTSTART:20230312T070000
END:DAYLIGHT
BEGIN:STANDARD
TZOFFSETFROM:-0400
TZOFFSETTO:-0500
TZNAME:EST
DTSTART:20231105T060000
END:STANDARD
BEGIN:DAYLIGHT
TZOFFSETFROM:-0500
TZOFFSETTO:-0400
TZNAME:EDT
DTSTART:20240310T070000
END:DAYLIGHT
BEGIN:STANDARD
TZOFFSETFROM:-0400
TZOFFSETTO:-0500
TZNAME:EST
DTSTART:20241103T060000
END:STANDARD
BEGIN:DAYLIGHT
TZOFFSETFROM:-0500
TZOFFSETTO:-0400
TZNAME:EDT
DTSTART:20250309T070000
END:DAYLIGHT
BEGIN:STANDARD
TZOFFSETFROM:-0400
TZOFFSETTO:-0500
TZNAME:EST
DTSTART:20251102T060000
END:STANDARD
END:VTIMEZONE
BEGIN:VEVENT
DTSTART;TZID=America/New_York:20241024T190000
DTEND;TZID=America/New_York:20241024T203000
DTSTAMP:20260419T095327
CREATED:20240106T171445Z
LAST-MODIFIED:20241023T152336Z
UID:859-1729796400-1729801800@www.callonwood.com
SUMMARY:HOA Closed Board Meeting - October 24\, 2024
DESCRIPTION:Note: The original date (Oct 24) has been rescheduled to Nov 21 (Annual Meeting).  The Oct 24th meeting is a closed (non-public) board meeting.\nHOA OPEN BOARD MEETING NOTICE \nThere will be an open board meeting Thursday\, October 24\, 2024 to begin at 7pm. \nThis will be held at the Callonwood Clubhouse\, located at 1001 Sarandon Drive in Stallings\, NC 28104. \nLooking forward to seeing everyone at the meeting!! \nSincerely\,\nCallonwood Board of Directors
URL:https://www.callonwood.com/event/hoa-open-board-meeting-oct-24-2024/
LOCATION:Callonwood Clubhouse
CATEGORIES:Board Meetings,Callonwood Events
ATTACH;FMTTYPE=image/jpeg:https://www.callonwood.com/wp-content/uploads/2022/07/meeting.jpg
END:VEVENT
END:VCALENDAR