BEGIN:VCALENDAR
VERSION:2.0
PRODID:-//Callonwood - ECPv6.15.20//NONSGML v1.0//EN
CALSCALE:GREGORIAN
METHOD:PUBLISH
X-WR-CALNAME:Callonwood
X-ORIGINAL-URL:https://www.callonwood.com
X-WR-CALDESC:Events for Callonwood
REFRESH-INTERVAL;VALUE=DURATION:PT1H
X-Robots-Tag:noindex
X-PUBLISHED-TTL:PT1H
BEGIN:VTIMEZONE
TZID:America/New_York
BEGIN:DAYLIGHT
TZOFFSETFROM:-0500
TZOFFSETTO:-0400
TZNAME:EDT
DTSTART:20240310T070000
END:DAYLIGHT
BEGIN:STANDARD
TZOFFSETFROM:-0400
TZOFFSETTO:-0500
TZNAME:EST
DTSTART:20241103T060000
END:STANDARD
BEGIN:DAYLIGHT
TZOFFSETFROM:-0500
TZOFFSETTO:-0400
TZNAME:EDT
DTSTART:20250309T070000
END:DAYLIGHT
BEGIN:STANDARD
TZOFFSETFROM:-0400
TZOFFSETTO:-0500
TZNAME:EST
DTSTART:20251102T060000
END:STANDARD
BEGIN:DAYLIGHT
TZOFFSETFROM:-0500
TZOFFSETTO:-0400
TZNAME:EDT
DTSTART:20260308T070000
END:DAYLIGHT
BEGIN:STANDARD
TZOFFSETFROM:-0400
TZOFFSETTO:-0500
TZNAME:EST
DTSTART:20261101T060000
END:STANDARD
END:VTIMEZONE
BEGIN:VEVENT
DTSTART;TZID=America/New_York:20250821T190000
DTEND;TZID=America/New_York:20250821T203000
DTSTAMP:20260419T161410
CREATED:20250204T172438Z
LAST-MODIFIED:20250204T172438Z
UID:1165-1755802800-1755808200@www.callonwood.com
SUMMARY:HOA Open Board Meeting - August 21\, 2025
DESCRIPTION:HOA OPEN BOARD MEETING NOTICE \nThere will be an open board meeting Thursday\, August 21\, 2025 to begin at 7pm. \nThis will be held at the Callonwood Clubhouse\, located at 1001 Sarandon Drive in Stallings\, NC 28104. \nLooking forward to seeing everyone at the meeting!! \nSincerely\,\nCallonwood Board of Directors
URL:https://www.callonwood.com/event/hoa-open-board-meeting-august-21-2025/
LOCATION:Callonwood Clubhouse
CATEGORIES:Board Meetings,Callonwood Events
ATTACH;FMTTYPE=image/jpeg:https://www.callonwood.com/wp-content/uploads/2022/07/meeting.jpg
END:VEVENT
END:VCALENDAR