BEGIN:VCALENDAR
VERSION:2.0
PRODID:-//Callonwood - ECPv6.15.20//NONSGML v1.0//EN
CALSCALE:GREGORIAN
METHOD:PUBLISH
X-ORIGINAL-URL:https://www.callonwood.com
X-WR-CALDESC:Events for Callonwood
REFRESH-INTERVAL;VALUE=DURATION:PT1H
X-Robots-Tag:noindex
X-PUBLISHED-TTL:PT1H
BEGIN:VTIMEZONE
TZID:America/New_York
BEGIN:DAYLIGHT
TZOFFSETFROM:-0500
TZOFFSETTO:-0400
TZNAME:EDT
DTSTART:20240310T070000
END:DAYLIGHT
BEGIN:STANDARD
TZOFFSETFROM:-0400
TZOFFSETTO:-0500
TZNAME:EST
DTSTART:20241103T060000
END:STANDARD
BEGIN:DAYLIGHT
TZOFFSETFROM:-0500
TZOFFSETTO:-0400
TZNAME:EDT
DTSTART:20250309T070000
END:DAYLIGHT
BEGIN:STANDARD
TZOFFSETFROM:-0400
TZOFFSETTO:-0500
TZNAME:EST
DTSTART:20251102T060000
END:STANDARD
BEGIN:DAYLIGHT
TZOFFSETFROM:-0500
TZOFFSETTO:-0400
TZNAME:EDT
DTSTART:20260308T070000
END:DAYLIGHT
BEGIN:STANDARD
TZOFFSETFROM:-0400
TZOFFSETTO:-0500
TZNAME:EST
DTSTART:20261101T060000
END:STANDARD
END:VTIMEZONE
BEGIN:VEVENT
DTSTART;TZID=America/New_York:20250704T110000
DTEND;TZID=America/New_York:20250704T120000
DTSTAMP:20260419T163102
CREATED:20250623T155747Z
LAST-MODIFIED:20250623T155747Z
UID:1267-1751626800-1751630400@www.callonwood.com
SUMMARY:Callonwood Fourth of July Parade – July 4\, 2025
DESCRIPTION:Join us for Callonwood’s Fifth Annual 4th of July Parade!\nFriday\, July 4\, 2025\nGreenspace at Aringill & Revelwood \nParade starts at 11am\nLine up starts at 10:45am \nPlan to participate?  Please RSVP to social@callonwood.com with number and ages of children participating. \nOpen to anything with wheels but no motor (ie\, no cars\, motorcycles\, go karts\, ATVs\, etc)
URL:https://www.callonwood.com/event/fourth-parade-july-4-2025/
CATEGORIES:Callonwood Events
ATTACH;FMTTYPE=image/png:https://www.callonwood.com/wp-content/uploads/4th-of-July-2025.png
END:VEVENT
END:VCALENDAR