BEGIN:VCALENDAR
VERSION:2.0
PRODID:-//Callonwood - ECPv6.15.20//NONSGML v1.0//EN
CALSCALE:GREGORIAN
METHOD:PUBLISH
X-ORIGINAL-URL:https://www.callonwood.com
X-WR-CALDESC:Events for Callonwood
REFRESH-INTERVAL;VALUE=DURATION:PT1H
X-Robots-Tag:noindex
X-PUBLISHED-TTL:PT1H
BEGIN:VTIMEZONE
TZID:America/New_York
BEGIN:DAYLIGHT
TZOFFSETFROM:-0500
TZOFFSETTO:-0400
TZNAME:EDT
DTSTART:20230312T070000
END:DAYLIGHT
BEGIN:STANDARD
TZOFFSETFROM:-0400
TZOFFSETTO:-0500
TZNAME:EST
DTSTART:20231105T060000
END:STANDARD
BEGIN:DAYLIGHT
TZOFFSETFROM:-0500
TZOFFSETTO:-0400
TZNAME:EDT
DTSTART:20240310T070000
END:DAYLIGHT
BEGIN:STANDARD
TZOFFSETFROM:-0400
TZOFFSETTO:-0500
TZNAME:EST
DTSTART:20241103T060000
END:STANDARD
BEGIN:DAYLIGHT
TZOFFSETFROM:-0500
TZOFFSETTO:-0400
TZNAME:EDT
DTSTART:20250309T070000
END:DAYLIGHT
BEGIN:STANDARD
TZOFFSETFROM:-0400
TZOFFSETTO:-0500
TZNAME:EST
DTSTART:20251102T060000
END:STANDARD
END:VTIMEZONE
BEGIN:VEVENT
DTSTART;TZID=America/New_York:20240912T190000
DTEND;TZID=America/New_York:20240912T220000
DTSTAMP:20260420T092626
CREATED:20240904T130349Z
LAST-MODIFIED:20240904T130349Z
UID:1066-1726167600-1726178400@www.callonwood.com
SUMMARY:Callonwood Men's Poker Night -- September 12\, 2024
DESCRIPTION:Callonwood Men’s Poker Night\nSeptember 12\, 2024 @ 7pm-10pm\nThe Clubhouse \nMust RSVP to social@callonwood.com to reserve a spot. \nSnacks will be provided\, Drinks are BYOB
URL:https://www.callonwood.com/event/mens-poker-night-september-12-2024/
LOCATION:Callonwood Clubhouse
CATEGORIES:Callonwood Events
ATTACH;FMTTYPE=image/png:https://www.callonwood.com/wp-content/uploads/poker-night.png
END:VEVENT
END:VCALENDAR