BEGIN:VCALENDAR
VERSION:2.0
PRODID:-//Callonwood - ECPv6.15.20//NONSGML v1.0//EN
CALSCALE:GREGORIAN
METHOD:PUBLISH
X-WR-CALNAME:Callonwood
X-ORIGINAL-URL:https://www.callonwood.com
X-WR-CALDESC:Events for Callonwood
REFRESH-INTERVAL;VALUE=DURATION:PT1H
X-Robots-Tag:noindex
X-PUBLISHED-TTL:PT1H
BEGIN:VTIMEZONE
TZID:America/New_York
BEGIN:DAYLIGHT
TZOFFSETFROM:-0500
TZOFFSETTO:-0400
TZNAME:EDT
DTSTART:20230312T070000
END:DAYLIGHT
BEGIN:STANDARD
TZOFFSETFROM:-0400
TZOFFSETTO:-0500
TZNAME:EST
DTSTART:20231105T060000
END:STANDARD
BEGIN:DAYLIGHT
TZOFFSETFROM:-0500
TZOFFSETTO:-0400
TZNAME:EDT
DTSTART:20240310T070000
END:DAYLIGHT
BEGIN:STANDARD
TZOFFSETFROM:-0400
TZOFFSETTO:-0500
TZNAME:EST
DTSTART:20241103T060000
END:STANDARD
BEGIN:DAYLIGHT
TZOFFSETFROM:-0500
TZOFFSETTO:-0400
TZNAME:EDT
DTSTART:20250309T070000
END:DAYLIGHT
BEGIN:STANDARD
TZOFFSETFROM:-0400
TZOFFSETTO:-0500
TZNAME:EST
DTSTART:20251102T060000
END:STANDARD
END:VTIMEZONE
BEGIN:VEVENT
DTSTART;TZID=America/New_York:20240710T180000
DTEND;TZID=America/New_York:20240710T200000
DTSTAMP:20260420T124225
CREATED:20240601T201809Z
LAST-MODIFIED:20240601T201809Z
UID:991-1720634400-1720641600@www.callonwood.com
SUMMARY:Callonwood Foam Party -- July 10\, 2024
DESCRIPTION:Come join in our Foam Party!\nWednesday\, July 10\, 2024 \n6-8pm Pizza\n7-8pm Foam!
URL:https://www.callonwood.com/event/callonwood-foam-party-july-10-2024/
LOCATION:Callonwood Clubhouse
CATEGORIES:Callonwood Events
ATTACH;FMTTYPE=image/png:https://www.callonwood.com/wp-content/uploads/Foam-Party.png
END:VEVENT
END:VCALENDAR